Workbook
Name r_NCMATRIX: 'NC Matrix'!$A$4:$A$162

Sheet Historic Update
A1: Date | B1: Document | C1: Historic Update | D1: Who | E1: CCR / ICO | F1: Revision
A2: 45566 | B2: EPF | C2: EPF 924 - Nothing added in EPF. - Update of the revision for uniformity + some preparation in cameleon for the futur split between FR and Export sales regions (FM FR FO) | D2: LA | E2: NA | F2: 924-A
A3: 45447 | B3: LPF | C3: OPEN for Italy only - Electrical Operated Seat And Backrest Tilt (BSA0250) | D3: LA | E3: Mail 04/06/24 E.COSTA | F3: 323-B
A4: 45435 | B4: LPF | C4: OPEN for France only - TRANSPORTATION BRACKETS, FRONT (FOR OCCUPIED AND NON OCCUPIED TRANSPORT) (BSA0595) | D4: LA | E4: Mail 22/05/24 A.DEBROCK | F4: 323-B
A5: 45394 | B5: EPF | C5: REMOVE - REFLECTORS KIT (WHEELS AND CHASSIS) (BSA0590) | D5: LA | E5: ICO-200575 | F5: 323-B
A6: 45338 | B6: EPF | C6: CHANGE standard for NL only: - BSA0085 Seat width extention | D6: LA | F6: 323-A
A7: 44986 | B7: EPF | C7: EPF 323 / No changes | D7: AG | F7: 323-A
A8: 44820 | B8: EPF | C8: OPEN option BSA0250 ( Electrical operated seat and backrest tilt) | D8: AG | F8: 722-D
A9: 44805 | B9: EPF | C9: Added ESPC liks column D | D9: YM | F9: 722-C
A10: 44755 | B10: EPF | C10: CLOSE option BSA0250 ( Electrical operated seat and backrest tilt) | D10: AG | F10: 722-B
A11: 44743 | B11: EPF | C11: EPF 722 : REMOVE Options : - BSA0410 COVER FOR NECKREST - BSA0610 CANE HOLDER | D11: AG | F11: 722-A
A12: 44562 | B12: EPF | C12: EPF 122 : no changes | D12: AG | F12: 122-A
A13: 44378 | B13: EPF | C13: EPF 721 : no Changes | D13: AG | F13: 721-A
A14: 44197 | B14: EPF | C14: EPF 121 : no Changes | D14: AG | F14: 121-A
A15: 44013 | B15: EPF | C15: EPF 720 : No Changes | D15: AG | F15: 720-A
A16: 43831 | B16: EPF | C16: EPF 120 : - CANCEL & REPLACE all the GREY FRONT CASTORS by BLACK - CANCEL & REPLACE the REAR WHEELS questions by REAR WHEELS SIZE & REAR WHEELS TYPE, ADD specific option for Drum Brake wheels - CANCEL the GREY SOLID TYRE | D16: AG | F16: 120-A
A17: 43647 | B17: EPF | C17: OPEN Black Castor 200x45 BSA0495 and Black Solid Tyre BSA0535 (only for 16" rear wheels) | D17: AG | F17: 719-A
... A19: 43181 | B19: EPF | C19: EPF 718 : No Changes | D19: AG | F19: 718
A20: 43062 | B20: EPF | C20: EPF updated according Cameleon model &with the french form | D20: AG | E20: CCR-0006324 | F20: 20171123
A21: 43066 | B21: EPF | C21: Add NC between BS0390 & BS0380 | D21: AG | F21: 20171127

Sheet EPF
C1: EUROPEAN PRESCRIPTION FORM
C2: {=MID(CELL("filename",EPF!$A$1),SEARCH("[",CELL("filename",EPF!$A$1))+1,(FIND(".xls",CELL("filename",EPF!$A$1))-1)-FIND("[",CELL("filename",EPF!$A$1)))} -> EPF-F1-REA AZALEA MAX-924-A (1)
C4: x
C5: p
C6: u
C13: UPDATE : In Green: New modification - In Blue: Previous Modification.
C14: LPF Instructions :
C15: x | G15: : | H15: =Commercial NC Green=New features/NCs/comments Red=Deleted features/NCs/comments Blue=Previous update
G16: : | H16: =Technical NC p=Please make your selection with a cross in the box u=Standard feature m=Free of Charge (NC9999)=Not Compatible with Option 9999.
C18: è | H18: Customer weight = 180 Kg
C19: Code | D19: =IF(LEFT(F19,4)="http","#SPLAVIVARX","") | E19: =IF(LEFT(F19,4)="http",REPLACE(F19,1,FIND("&k_vari=",F19)+7,""),"") | F19: eSPC | H19: Description | I19: Comments | K19: Main incompatibilities Check next tabs for remaining ones.
C20: MODEL
C21: BSA0010 | D21: #SPLAZALEA | E21: #SPLAZALEA | F21: =IF(D21="","",HYPERLINK(_xlfn.CONCAT("https://e-spares-dev.invacare.eu.com/catalog_dev/app?forcerestart=true&basket=false&partLang=en&docuLang=en&locale=en_GB&HOOK_URL=&k_vari_top=",_xlfn.ENCODEURL(D21),"&k_vari=",_xlfn.ENCODEURL(E21)),"ESPC")) -> ESPC | G21: u | H21: REA AZALEA MAX | K21: {=SUBSTITUTE(IFERROR(_xlfn.ARRAYTOTEXT(_xlfn.TOROW(RIGHT( _xlfn.IFS(OFFSET(r_NCMATRIX,0,COLUMN(INDEX('NC Matrix'!$2:$2,1,MATCH(REPLACE(C21,3,1,"A"),'NC Matrix'!$2:$2,0)))-1)="X", IF(LEN(OFFSET((INDEX(r_NCMATRIX,MATCH(REPLACE($C$21,3,1,"A"),r_NCMATRIX,0))),0,0,ROWS(r_NCMATRIX)))<>7, NA(),OFFSET((INDEX(r_NCMATRIX,MATCH(REPLACE($C$21,3,1,"A"),r_NCMATRIX,0))),0,0,ROWS(r_NCMATRIX))), OFFSET(r_NCMATRIX,0,COLUMN(INDEX('NC Matrix'!$2:$2,1,MATCH(REPLACE(C21,3,1,"A"),'NC Matrix'!$2:$2,0)))-1)="M", IF(LEN(OFFSET((INDEX(r_NCMATRIX,MATCH(REPLACE($C$21,3,1,"A"),r_NCMATRIX,0))),0,0,ROWS(r_NCMATRIX)))<>7, NA(),OFFSET((INDEX(r_NCMATRIX,MATCH(REPLACE($C$21,3,1,"A"),r_NCMATRIX,0))),0,0,ROWS(r_NCMATRIX))), TRUE,NA()),4),3),0),""),";",",")}
C22: BSA0015 | D22: #SPLAZALEA | E22: #SPLAZALEA | F22: =IF(D22="","",HYPERLINK(_xlfn.CONCAT("https://e-spares-dev.invacare.eu.com/catalog_dev/app?forcerestart=true&basket=false&partLang=en&docuLang=en&locale=en_GB&HOOK_URL=&k_vari_top=",_xlfn.ENCODEURL(D22),"&k_vari=",_xlfn.ENCODEURL(E22)),"ESPC")) -> ESPC | G22: p | H22: REA AZALEA MAX ASSIST | I22: ONLY FOR FRANCE & FINLAND | K22: {=SUBSTITUTE(IFERROR(_xlfn.ARRAYTOTEXT(_xlfn.TOROW(RIGHT( _xlfn.IFS(OFFSET(r_NCMATRIX,0,COLUMN(INDEX('NC Matrix'!$2:$2,1,MATCH(REPLACE(C22,3,1,"A"),'NC Matrix'!$2:$2,0)))-1)="X", IF(LEN(OFFSET((INDEX(r_NCMATRIX,MATCH(REPLACE($C$21,3,1,"A"),r_NCMATRIX,0))),0,0,ROWS(r_NCMATRIX)))<>7, NA(),OFFSET((INDEX(r_NCMATRIX,MATCH(REPLACE($C$21,3,1,"A"),r_NCMATRIX,0))),0,0,ROWS(r_NCMATRIX))), OFFSET(r_NCMATRIX,0,COLUMN(INDEX('NC Matrix'!$2:$2,1,MATCH(REPLACE(C22,3,1,"A"),'NC Matrix'!$2:$2,0)))-1)="M", IF(LEN(OFFSET((INDEX(r_NCMATRIX,MATCH(REPLACE($C$21,3,1,"A"),r_NCMATRIX,0))),0,0,ROWS(r_NCMATRIX)))<>7, NA(),OFFSET((INDEX(r_NCMATRIX,MATCH(REPLACE($C$21,3,1,"A"),r_NCMATRIX,0))),0,0,ROWS(r_NCMATRIX))), TRUE,NA()),4),3),0),""),";",",")}
C23: SPECIAL
C24: BSA8000 | D24: #SPLAZALEA | E24: #SPLAZALEA | F24: =IF(D24="","",HYPERLINK(_xlfn.CONCAT("https://e-spares-dev.invacare.eu.com/catalog_dev/app?forcerestart=true&basket=false&partLang=en&docuLang=en&locale=en_GB&HOOK_URL=&k_vari_top=",_xlfn.ENCODEURL(D24),"&k_vari=",_xlfn.ENCODEURL(E24)),"ESPC")) -> ESPC | G24: p | H24: SPECIAL | K24: {=SUBSTITUTE(IFERROR(_xlfn.ARRAYTOTEXT(_xlfn.TOROW(RIGHT( _xlfn.IFS(OFFSET(r_NCMATRIX,0,COLUMN(INDEX('NC Matrix'!$2:$2,1,MATCH(REPLACE(C24,3,1,"A"),'NC Matrix'!$2:$2,0)))-1)="X", IF(LEN(OFFSET((INDEX(r_NCMATRIX,MATCH(REPLACE($C$21,3,1,"A"),r_NCMATRIX,0))),0,0,ROWS(r_NCMATRIX)))<>7, NA(),OFFSET((INDEX(r_NCMATRIX,MATCH(REPLACE($C$21,3,1,"A"),r_NCMATRIX,0))),0,0,ROWS(r_NCMATRIX))), OFFSET(r_NCMATRIX,0,COLUMN(INDEX('NC Matrix'!$2:$2,1,MATCH(REPLACE(C24,3,1,"A"),'NC Matrix'!$2:$2,0)))-1)="M", IF(LEN(OFFSET((INDEX(r_NCMATRIX,MATCH(REPLACE($C$21,3,1,"A"),r_NCMATRIX,0))),0,0,ROWS(r_NCMATRIX)))<>7, NA(),OFFSET((INDEX(r_NCMATRIX,MATCH(REPLACE($C$21,3,1,"A"),r_NCMATRIX,0))),0,0,ROWS(r_NCMATRIX))), TRUE,NA()),4),3),0),""),";",",")}
C25: PROPULSION TYPE
C26: BSA0020 | D26: #SPLAZALEA | E26: !SPS1608191 | F26: =IF(D26="","",HYPERLINK(_xlfn.CONCAT("https://e-spares-dev.invacare.eu.com/catalog_dev/app?forcerestart=true&basket=false&partLang=en&docuLang=en&locale=en_GB&HOOK_URL=&k_vari_top=",_xlfn.ENCODEURL(D26),"&k_vari=",_xlfn.ENCODEURL(E26)),"ESPC")) -> ESPC | G26: p | H26: TRANSIT: 16" WHEELS WITH HUB BRAKES | K26: {=SUBSTITUTE(IFERROR(_xlfn.ARRAYTOTEXT(_xlfn.TOROW(RIGHT( _xlfn.IFS(OFFSET(r_NCMATRIX,0,COLUMN(INDEX('NC Matrix'!$2:$2,1,MATCH(REPLACE(C26,3,1,"A"),'NC Matrix'!$2:$2,0)))-1)="X", IF(LEN(OFFSET((INDEX(r_NCMATRIX,MATCH(REPLACE($C$21,3,1,"A"),r_NCMATRIX,0))),0,0,ROWS(r_NCMATRIX)))<>7, NA(),OFFSET((INDEX(r_NCMATRIX,MATCH(REPLACE($C$21,3,1,"A"),r_NCMATRIX,0))),0,0,ROWS(r_NCMATRIX))), OFFSET(r_NCMATRIX,0,COLUMN(INDEX('NC Matrix'!$2:$2,1,MATCH(REPLACE(C26,3,1,"A"),'NC Matrix'!$2:$2,0)))-1)="M", IF(LEN(OFFSET((INDEX(r_NCMATRIX,MATCH(REPLACE($C$21,3,1,"A"),r_NCMATRIX,0))),0,0,ROWS(r_NCMATRIX)))<>7, NA(),OFFSET((INDEX(r_NCMATRIX,MATCH(REPLACE($C$21,3,1,"A"),r_NCMATRIX,0))),0,0,ROWS(r_NCMATRIX))), TRUE,NA()),4),3),0),""),";",",")} -> 0100, 0514, 0516, 0522, 0540, 0545, 0550, 0561
C27: BSA0030 | D27: #SPLAZALEA | E27: <SPCAZALEA55 | F27: =IF(D27="","",HYPERLINK(_xlfn.CONCAT("https://e-spares-dev.invacare.eu.com/catalog_dev/app?forcerestart=true&basket=false&partLang=en&docuLang=en&locale=en_GB&HOOK_URL=&k_vari_top=",_xlfn.ENCODEURL(D27),"&k_vari=",_xlfn.ENCODEURL(E27)),"ESPC")) -> ESPC | G27: u | H27: SELF PROPELLED: 24"/ 22" WHEELS WITH USER BRAKES | K27: {=SUBSTITUTE(IFERROR(_xlfn.ARRAYTOTEXT(_xlfn.TOROW(RIGHT( _xlfn.IFS(OFFSET(r_NCMATRIX,0,COLUMN(INDEX('NC Matrix'!$2:$2,1,MATCH(REPLACE(C27,3,1,"A"),'NC Matrix'!$2:$2,0)))-1)="X", IF(LEN(OFFSET((INDEX(r_NCMATRIX,MATCH(REPLACE($C$21,3,1,"A"),r_NCMATRIX,0))),0,0,ROWS(r_NCMATRIX)))<>7, NA(),OFFSET((INDEX(r_NCMATRIX,MATCH(REPLACE($C$21,3,1,"A"),r_NCMATRIX,0))),0,0,ROWS(r_NCMATRIX))), OFFSET(r_NCMATRIX,0,COLUMN(INDEX('NC Matrix'!$2:$2,1,MATCH(REPLACE(C27,3,1,"A"),'NC Matrix'!$2:$2,0)))-1)="M", IF(LEN(OFFSET((INDEX(r_NCMATRIX,MATCH(REPLACE($C$21,3,1,"A"),r_NCMATRIX,0))),0,0,ROWS(r_NCMATRIX)))<>7, NA(),OFFSET((INDEX(r_NCMATRIX,MATCH(REPLACE($C$21,3,1,"A"),r_NCMATRIX,0))),0,0,ROWS(r_NCMATRIX))), TRUE,NA()),4),3),0),""),";",",")} -> 0080, 0512, 0524
C28: BSA0040 | D28: #SPLAZALEA | E28: <SPCAZALEA55 | F28: =IF(D28="","",HYPERLINK(_xlfn.CONCAT("https://e-spares-dev.invacare.eu.com/catalog_dev/app?forcerestart=true&basket=false&partLang=en&docuLang=en&locale=en_GB&HOOK_URL=&k_vari_top=",_xlfn.ENCODEURL(D28),"&k_vari=",_xlfn.ENCODEURL(E28)),"ESPC")) -> ESPC | G28: p | H28: SELF- AND ASSISTANT PROPELLED: 24" / 22" WHEELS WITH HUB BRAKES | K28: {=SUBSTITUTE(IFERROR(_xlfn.ARRAYTOTEXT(_xlfn.TOROW(RIGHT( _xlfn.IFS(OFFSET(r_NCMATRIX,0,COLUMN(INDEX('NC Matrix'!$2:$2,1,MATCH(REPLACE(C28,3,1,"A"),'NC Matrix'!$2:$2,0)))-1)="X", IF(LEN(OFFSET((INDEX(r_NCMATRIX,MATCH(REPLACE($C$21,3,1,"A"),r_NCMATRIX,0))),0,0,ROWS(r_NCMATRIX)))<>7, NA(),OFFSET((INDEX(r_NCMATRIX,MATCH(REPLACE($C$21,3,1,"A"),r_NCMATRIX,0))),0,0,ROWS(r_NCMATRIX))), OFFSET(r_NCMATRIX,0,COLUMN(INDEX('NC Matrix'!$2:$2,1,MATCH(REPLACE(C28,3,1,"A"),'NC Matrix'!$2:$2,0)))-1)="M", IF(LEN(OFFSET((INDEX(r_NCMATRIX,MATCH(REPLACE($C$21,3,1,"A"),r_NCMATRIX,0))),0,0,ROWS(r_NCMATRIX)))<>7, NA(),OFFSET((INDEX(r_NCMATRIX,MATCH(REPLACE($C$21,3,1,"A"),r_NCMATRIX,0))),0,0,ROWS(r_NCMATRIX))), TRUE,NA()),4),3),0),""),";",",")} -> 0080, 0512, 0522
C29: SEAT DIMENSIONS
C30: SEAT WIDTH
C31: BSA0050 | F31: =IF(D31="","",HYPERLINK(_xlfn.CONCAT("https://e-spares-dev.invacare.eu.com/catalog_dev/app?forcerestart=true&basket=false&partLang=en&docuLang=en&locale=en_GB&HOOK_URL=&k_vari_top=",_xlfn.ENCODEURL(D31),"&k_vari=",_xlfn.ENCODEURL(E31)),"ESPC")) | G31: u | H31: 550 MM | K31: {=SUBSTITUTE(IFERROR(_xlfn.ARRAYTOTEXT(_xlfn.TOROW(RIGHT( _xlfn.IFS(OFFSET(r_NCMATRIX,0,COLUMN(INDEX('NC Matrix'!$2:$2,1,MATCH(REPLACE(C31,3,1,"A"),'NC Matrix'!$2:$2,0)))-1)="X", IF(LEN(OFFSET((INDEX(r_NCMATRIX,MATCH(REPLACE($C$21,3,1,"A"),r_NCMATRIX,0))),0,0,ROWS(r_NCMATRIX)))<>7, NA(),OFFSET((INDEX(r_NCMATRIX,MATCH(REPLACE($C$21,3,1,"A"),r_NCMATRIX,0))),0,0,ROWS(r_NCMATRIX))), OFFSET(r_NCMATRIX,0,COLUMN(INDEX('NC Matrix'!$2:$2,1,MATCH(REPLACE(C31,3,1,"A"),'NC Matrix'!$2:$2,0)))-1)="M", IF(LEN(OFFSET((INDEX(r_NCMATRIX,MATCH(REPLACE($C$21,3,1,"A"),r_NCMATRIX,0))),0,0,ROWS(r_NCMATRIX)))<>7, NA(),OFFSET((INDEX(r_NCMATRIX,MATCH(REPLACE($C$21,3,1,"A"),r_NCMATRIX,0))),0,0,ROWS(r_NCMATRIX))), TRUE,NA()),4),3),0),""),";",",")}
C32: BSA0060 | F32: =IF(D32="","",HYPERLINK(_xlfn.CONCAT("https://e-spares-dev.invacare.eu.com/catalog_dev/app?forcerestart=true&basket=false&partLang=en&docuLang=en&locale=en_GB&HOOK_URL=&k_vari_top=",_xlfn.ENCODEURL(D32),"&k_vari=",_xlfn.ENCODEURL(E32)),"ESPC")) | G32: p | H32: 610 MM | K32: {=SUBSTITUTE(IFERROR(_xlfn.ARRAYTOTEXT(_xlfn.TOROW(RIGHT( _xlfn.IFS(OFFSET(r_NCMATRIX,0,COLUMN(INDEX('NC Matrix'!$2:$2,1,MATCH(REPLACE(C32,3,1,"A"),'NC Matrix'!$2:$2,0)))-1)="X", IF(LEN(OFFSET((INDEX(r_NCMATRIX,MATCH(REPLACE($C$21,3,1,"A"),r_NCMATRIX,0))),0,0,ROWS(r_NCMATRIX)))<>7, NA(),OFFSET((INDEX(r_NCMATRIX,MATCH(REPLACE($C$21,3,1,"A"),r_NCMATRIX,0))),0,0,ROWS(r_NCMATRIX))), OFFSET(r_NCMATRIX,0,COLUMN(INDEX('NC Matrix'!$2:$2,1,MATCH(REPLACE(C32,3,1,"A"),'NC Matrix'!$2:$2,0)))-1)="M", IF(LEN(OFFSET((INDEX(r_NCMATRIX,MATCH(REPLACE($C$21,3,1,"A"),r_NCMATRIX,0))),0,0,ROWS(r_NCMATRIX)))<>7, NA(),OFFSET((INDEX(r_NCMATRIX,MATCH(REPLACE($C$21,3,1,"A"),r_NCMATRIX,0))),0,0,ROWS(r_NCMATRIX))), TRUE,NA()),4),3),0),""),";",",")}
C33: SEAT WIDTH EXTENSION (PRE ADJUSTMENT)
C34: BSA0070 | F34: =IF(D34="","",HYPERLINK(_xlfn.CONCAT("https://e-spares-dev.invacare.eu.com/catalog_dev/app?forcerestart=true&basket=false&partLang=en&docuLang=en&locale=en_GB&HOOK_URL=&k_vari_top=",_xlfn.ENCODEURL(D34),"&k_vari=",_xlfn.ENCODEURL(E34)),"ESPC")) | G34: u | H34: + 50 MM | K34: {=SUBSTITUTE(IFERROR(_xlfn.ARRAYTOTEXT(_xlfn.TOROW(RIGHT( _xlfn.IFS(OFFSET(r_NCMATRIX,0,COLUMN(INDEX('NC Matrix'!$2:$2,1,MATCH(REPLACE(C34,3,1,"A"),'NC Matrix'!$2:$2,0)))-1)="X", IF(LEN(OFFSET((INDEX(r_NCMATRIX,MATCH(REPLACE($C$21,3,1,"A"),r_NCMATRIX,0))),0,0,ROWS(r_NCMATRIX)))<>7, NA(),OFFSET((INDEX(r_NCMATRIX,MATCH(REPLACE($C$21,3,1,"A"),r_NCMATRIX,0))),0,0,ROWS(r_NCMATRIX))), OFFSET(r_NCMATRIX,0,COLUMN(INDEX('NC Matrix'!$2:$2,1,MATCH(REPLACE(C34,3,1,"A"),'NC Matrix'!$2:$2,0)))-1)="M", IF(LEN(OFFSET((INDEX(r_NCMATRIX,MATCH(REPLACE($C$21,3,1,"A"),r_NCMATRIX,0))),0,0,ROWS(r_NCMATRIX)))<>7, NA(),OFFSET((INDEX(r_NCMATRIX,MATCH(REPLACE($C$21,3,1,"A"),r_NCMATRIX,0))),0,0,ROWS(r_NCMATRIX))), TRUE,NA()),4),3),0),""),";",",")}
C35: BSA0080 | F35: =IF(D35="","",HYPERLINK(_xlfn.CONCAT("https://e-spares-dev.invacare.eu.com/catalog_dev/app?forcerestart=true&basket=false&partLang=en&docuLang=en&locale=en_GB&HOOK_URL=&k_vari_top=",_xlfn.ENCODEURL(D35),"&k_vari=",_xlfn.ENCODEURL(E35)),"ESPC")) | G35: p | H35: + 100 MM ( ONLY 16" REAR WHEELS) | K35: {=SUBSTITUTE(IFERROR(_xlfn.ARRAYTOTEXT(_xlfn.TOROW(RIGHT( _xlfn.IFS(OFFSET(r_NCMATRIX,0,COLUMN(INDEX('NC Matrix'!$2:$2,1,MATCH(REPLACE(C35,3,1,"A"),'NC Matrix'!$2:$2,0)))-1)="X", IF(LEN(OFFSET((INDEX(r_NCMATRIX,MATCH(REPLACE($C$21,3,1,"A"),r_NCMATRIX,0))),0,0,ROWS(r_NCMATRIX)))<>7, NA(),OFFSET((INDEX(r_NCMATRIX,MATCH(REPLACE($C$21,3,1,"A"),r_NCMATRIX,0))),0,0,ROWS(r_NCMATRIX))), OFFSET(r_NCMATRIX,0,COLUMN(INDEX('NC Matrix'!$2:$2,1,MATCH(REPLACE(C35,3,1,"A"),'NC Matrix'!$2:$2,0)))-1)="M", IF(LEN(OFFSET((INDEX(r_NCMATRIX,MATCH(REPLACE($C$21,3,1,"A"),r_NCMATRIX,0))),0,0,ROWS(r_NCMATRIX)))<>7, NA(),OFFSET((INDEX(r_NCMATRIX,MATCH(REPLACE($C$21,3,1,"A"),r_NCMATRIX,0))),0,0,ROWS(r_NCMATRIX))), TRUE,NA()),4),3),0),""),";",",")} -> 0561
C36: BSA0085 | F36: =IF(D36="","",HYPERLINK(_xlfn.CONCAT("https://e-spares-dev.invacare.eu.com/catalog_dev/app?forcerestart=true&basket=false&partLang=en&docuLang=en&locale=en_GB&HOOK_URL=&k_vari_top=",_xlfn.ENCODEURL(D36),"&k_vari=",_xlfn.ENCODEURL(E36)),"ESPC")) | G36: p | H36: WITHOUT SEAT WIDTH EXTENSION | K36: {=SUBSTITUTE(IFERROR(_xlfn.ARRAYTOTEXT(_xlfn.TOROW(RIGHT( _xlfn.IFS(OFFSET(r_NCMATRIX,0,COLUMN(INDEX('NC Matrix'!$2:$2,1,MATCH(REPLACE(C36,3,1,"A"),'NC Matrix'!$2:$2,0)))-1)="X", IF(LEN(OFFSET((INDEX(r_NCMATRIX,MATCH(REPLACE($C$21,3,1,"A"),r_NCMATRIX,0))),0,0,ROWS(r_NCMATRIX)))<>7, NA(),OFFSET((INDEX(r_NCMATRIX,MATCH(REPLACE($C$21,3,1,"A"),r_NCMATRIX,0))),0,0,ROWS(r_NCMATRIX))), OFFSET(r_NCMATRIX,0,COLUMN(INDEX('NC Matrix'!$2:$2,1,MATCH(REPLACE(C36,3,1,"A"),'NC Matrix'!$2:$2,0)))-1)="M", IF(LEN(OFFSET((INDEX(r_NCMATRIX,MATCH(REPLACE($C$21,3,1,"A"),r_NCMATRIX,0))),0,0,ROWS(r_NCMATRIX)))<>7, NA(),OFFSET((INDEX(r_NCMATRIX,MATCH(REPLACE($C$21,3,1,"A"),r_NCMATRIX,0))),0,0,ROWS(r_NCMATRIX))), TRUE,NA()),4),3),0),""),";",",")}
C37: SEAT DEPTH
C38: BSA0090 | F38: =IF(D38="","",HYPERLINK(_xlfn.CONCAT("https://e-spares-dev.invacare.eu.com/catalog_dev/app?forcerestart=true&basket=false&partLang=en&docuLang=en&locale=en_GB&HOOK_URL=&k_vari_top=",_xlfn.ENCODEURL(D38),"&k_vari=",_xlfn.ENCODEURL(E38)),"ESPC")) | G38: u | H38: 530-600 MM | K38: {=SUBSTITUTE(IFERROR(_xlfn.ARRAYTOTEXT(_xlfn.TOROW(RIGHT( _xlfn.IFS(OFFSET(r_NCMATRIX,0,COLUMN(INDEX('NC Matrix'!$2:$2,1,MATCH(REPLACE(C38,3,1,"A"),'NC Matrix'!$2:$2,0)))-1)="X", IF(LEN(OFFSET((INDEX(r_NCMATRIX,MATCH(REPLACE($C$21,3,1,"A"),r_NCMATRIX,0))),0,0,ROWS(r_NCMATRIX)))<>7, NA(),OFFSET((INDEX(r_NCMATRIX,MATCH(REPLACE($C$21,3,1,"A"),r_NCMATRIX,0))),0,0,ROWS(r_NCMATRIX))), OFFSET(r_NCMATRIX,0,COLUMN(INDEX('NC Matrix'!$2:$2,1,MATCH(REPLACE(C38,3,1,"A"),'NC Matrix'!$2:$2,0)))-1)="M", IF(LEN(OFFSET((INDEX(r_NCMATRIX,MATCH(REPLACE($C$21,3,1,"A"),r_NCMATRIX,0))),0,0,ROWS(r_NCMATRIX)))<>7, NA(),OFFSET((INDEX(r_NCMATRIX,MATCH(REPLACE($C$21,3,1,"A"),r_NCMATRIX,0))),0,0,ROWS(r_NCMATRIX))), TRUE,NA()),4),3),0),""),";",",")}
C39: SEAT HEIGHT
C40: BSA0100 | F40: =IF(D40="","",HYPERLINK(_xlfn.CONCAT("https://e-spares-dev.invacare.eu.com/catalog_dev/app?forcerestart=true&basket=false&partLang=en&docuLang=en&locale=en_GB&HOOK_URL=&k_vari_top=",_xlfn.ENCODEURL(D40),"&k_vari=",_xlfn.ENCODEURL(E40)),"ESPC")) | G40: p | H40: 400 MM | K40: {=SUBSTITUTE(IFERROR(_xlfn.ARRAYTOTEXT(_xlfn.TOROW(RIGHT( _xlfn.IFS(OFFSET(r_NCMATRIX,0,COLUMN(INDEX('NC Matrix'!$2:$2,1,MATCH(REPLACE(C40,3,1,"A"),'NC Matrix'!$2:$2,0)))-1)="X", IF(LEN(OFFSET((INDEX(r_NCMATRIX,MATCH(REPLACE($C$21,3,1,"A"),r_NCMATRIX,0))),0,0,ROWS(r_NCMATRIX)))<>7, NA(),OFFSET((INDEX(r_NCMATRIX,MATCH(REPLACE($C$21,3,1,"A"),r_NCMATRIX,0))),0,0,ROWS(r_NCMATRIX))), OFFSET(r_NCMATRIX,0,COLUMN(INDEX('NC Matrix'!$2:$2,1,MATCH(REPLACE(C40,3,1,"A"),'NC Matrix'!$2:$2,0)))-1)="M", IF(LEN(OFFSET((INDEX(r_NCMATRIX,MATCH(REPLACE($C$21,3,1,"A"),r_NCMATRIX,0))),0,0,ROWS(r_NCMATRIX)))<>7, NA(),OFFSET((INDEX(r_NCMATRIX,MATCH(REPLACE($C$21,3,1,"A"),r_NCMATRIX,0))),0,0,ROWS(r_NCMATRIX))), TRUE,NA()),4),3),0),""),";",",")} -> 0290, 0495, 0512, 0516
C41: BSA0110 | F41: =IF(D41="","",HYPERLINK(_xlfn.CONCAT("https://e-spares-dev.invacare.eu.com/catalog_dev/app?forcerestart=true&basket=false&partLang=en&docuLang=en&locale=en_GB&HOOK_URL=&k_vari_top=",_xlfn.ENCODEURL(D41),"&k_vari=",_xlfn.ENCODEURL(E41)),"ESPC")) | G41: p | H41: 450 MM | K41: {=SUBSTITUTE(IFERROR(_xlfn.ARRAYTOTEXT(_xlfn.TOROW(RIGHT( _xlfn.IFS(OFFSET(r_NCMATRIX,0,COLUMN(INDEX('NC Matrix'!$2:$2,1,MATCH(REPLACE(C41,3,1,"A"),'NC Matrix'!$2:$2,0)))-1)="X", IF(LEN(OFFSET((INDEX(r_NCMATRIX,MATCH(REPLACE($C$21,3,1,"A"),r_NCMATRIX,0))),0,0,ROWS(r_NCMATRIX)))<>7, NA(),OFFSET((INDEX(r_NCMATRIX,MATCH(REPLACE($C$21,3,1,"A"),r_NCMATRIX,0))),0,0,ROWS(r_NCMATRIX))), OFFSET(r_NCMATRIX,0,COLUMN(INDEX('NC Matrix'!$2:$2,1,MATCH(REPLACE(C41,3,1,"A"),'NC Matrix'!$2:$2,0)))-1)="M", IF(LEN(OFFSET((INDEX(r_NCMATRIX,MATCH(REPLACE($C$21,3,1,"A"),r_NCMATRIX,0))),0,0,ROWS(r_NCMATRIX)))<>7, NA(),OFFSET((INDEX(r_NCMATRIX,MATCH(REPLACE($C$21,3,1,"A"),r_NCMATRIX,0))),0,0,ROWS(r_NCMATRIX))), TRUE,NA()),4),3),0),""),";",",")} -> 0480, 0514
C42: SEAT TYPE
C43: BSA0120 | F43: =IF(D43="","",HYPERLINK(_xlfn.CONCAT("https://e-spares-dev.invacare.eu.com/catalog_dev/app?forcerestart=true&basket=false&partLang=en&docuLang=en&locale=en_GB&HOOK_URL=&k_vari_top=",_xlfn.ENCODEURL(D43),"&k_vari=",_xlfn.ENCODEURL(E43)),"ESPC")) | G43: u | H43: DEPTH ADJUSTABLE | K43: {=SUBSTITUTE(IFERROR(_xlfn.ARRAYTOTEXT(_xlfn.TOROW(RIGHT( _xlfn.IFS(OFFSET(r_NCMATRIX,0,COLUMN(INDEX('NC Matrix'!$2:$2,1,MATCH(REPLACE(C43,3,1,"A"),'NC Matrix'!$2:$2,0)))-1)="X", IF(LEN(OFFSET((INDEX(r_NCMATRIX,MATCH(REPLACE($C$21,3,1,"A"),r_NCMATRIX,0))),0,0,ROWS(r_NCMATRIX)))<>7, NA(),OFFSET((INDEX(r_NCMATRIX,MATCH(REPLACE($C$21,3,1,"A"),r_NCMATRIX,0))),0,0,ROWS(r_NCMATRIX))), OFFSET(r_NCMATRIX,0,COLUMN(INDEX('NC Matrix'!$2:$2,1,MATCH(REPLACE(C43,3,1,"A"),'NC Matrix'!$2:$2,0)))-1)="M", IF(LEN(OFFSET((INDEX(r_NCMATRIX,MATCH(REPLACE($C$21,3,1,"A"),r_NCMATRIX,0))),0,0,ROWS(r_NCMATRIX)))<>7, NA(),OFFSET((INDEX(r_NCMATRIX,MATCH(REPLACE($C$21,3,1,"A"),r_NCMATRIX,0))),0,0,ROWS(r_NCMATRIX))), TRUE,NA()),4),3),0),""),";",",")}
C44: SEAT CUSHION
C45: BSA0130 | D45: #SPLAZALEA | E45: !SPS1536596 | F45: =IF(D45="","",HYPERLINK(_xlfn.CONCAT("https://e-spares-dev.invacare.eu.com/catalog_dev/app?forcerestart=true&basket=false&partLang=en&docuLang=en&locale=en_GB&HOOK_URL=&k_vari_top=",_xlfn.ENCODEURL(D45),"&k_vari=",_xlfn.ENCODEURL(E45)),"ESPC")) -> ESPC | G45: p | H45: MAX SEAT CUSHION | I45: SEAT UPHOLSTERY MANDATORY | K45: {=SUBSTITUTE(IFERROR(_xlfn.ARRAYTOTEXT(_xlfn.TOROW(RIGHT( _xlfn.IFS(OFFSET(r_NCMATRIX,0,COLUMN(INDEX('NC Matrix'!$2:$2,1,MATCH(REPLACE(C45,3,1,"A"),'NC Matrix'!$2:$2,0)))-1)="X", IF(LEN(OFFSET((INDEX(r_NCMATRIX,MATCH(REPLACE($C$21,3,1,"A"),r_NCMATRIX,0))),0,0,ROWS(r_NCMATRIX)))<>7, NA(),OFFSET((INDEX(r_NCMATRIX,MATCH(REPLACE($C$21,3,1,"A"),r_NCMATRIX,0))),0,0,ROWS(r_NCMATRIX))), OFFSET(r_NCMATRIX,0,COLUMN(INDEX('NC Matrix'!$2:$2,1,MATCH(REPLACE(C45,3,1,"A"),'NC Matrix'!$2:$2,0)))-1)="M", IF(LEN(OFFSET((INDEX(r_NCMATRIX,MATCH(REPLACE($C$21,3,1,"A"),r_NCMATRIX,0))),0,0,ROWS(r_NCMATRIX)))<>7, NA(),OFFSET((INDEX(r_NCMATRIX,MATCH(REPLACE($C$21,3,1,"A"),r_NCMATRIX,0))),0,0,ROWS(r_NCMATRIX))), TRUE,NA()),4),3),0),""),";",",")}
C46: BSA0135 | F46: =IF(D46="","",HYPERLINK(_xlfn.CONCAT("https://e-spares-dev.invacare.eu.com/catalog_dev/app?forcerestart=true&basket=false&partLang=en&docuLang=en&locale=en_GB&HOOK_URL=&k_vari_top=",_xlfn.ENCODEURL(D46),"&k_vari=",_xlfn.ENCODEURL(E46)),"ESPC")) | G46: u | H46: WITHOUT SEAT CUSHION | K46: {=SUBSTITUTE(IFERROR(_xlfn.ARRAYTOTEXT(_xlfn.TOROW(RIGHT( _xlfn.IFS(OFFSET(r_NCMATRIX,0,COLUMN(INDEX('NC Matrix'!$2:$2,1,MATCH(REPLACE(C46,3,1,"A"),'NC Matrix'!$2:$2,0)))-1)="X", IF(LEN(OFFSET((INDEX(r_NCMATRIX,MATCH(REPLACE($C$21,3,1,"A"),r_NCMATRIX,0))),0,0,ROWS(r_NCMATRIX)))<>7, NA(),OFFSET((INDEX(r_NCMATRIX,MATCH(REPLACE($C$21,3,1,"A"),r_NCMATRIX,0))),0,0,ROWS(r_NCMATRIX))), OFFSET(r_NCMATRIX,0,COLUMN(INDEX('NC Matrix'!$2:$2,1,MATCH(REPLACE(C46,3,1,"A"),'NC Matrix'!$2:$2,0)))-1)="M", IF(LEN(OFFSET((INDEX(r_NCMATRIX,MATCH(REPLACE($C$21,3,1,"A"),r_NCMATRIX,0))),0,0,ROWS(r_NCMATRIX)))<>7, NA(),OFFSET((INDEX(r_NCMATRIX,MATCH(REPLACE($C$21,3,1,"A"),r_NCMATRIX,0))),0,0,ROWS(r_NCMATRIX))), TRUE,NA()),4),3),0),""),";",",")} -> 0145, 0155
C47: SEAT UPHOLSTERY
C48: BSA0145 | F48: =IF(D48="","",HYPERLINK(_xlfn.CONCAT("https://e-spares-dev.invacare.eu.com/catalog_dev/app?forcerestart=true&basket=false&partLang=en&docuLang=en&locale=en_GB&HOOK_URL=&k_vari_top=",_xlfn.ENCODEURL(D48),"&k_vari=",_xlfn.ENCODEURL(E48)),"ESPC")) | G48: u | H48: BLACK PLUSH TR35 | K48: {=SUBSTITUTE(IFERROR(_xlfn.ARRAYTOTEXT(_xlfn.TOROW(RIGHT( _xlfn.IFS(OFFSET(r_NCMATRIX,0,COLUMN(INDEX('NC Matrix'!$2:$2,1,MATCH(REPLACE(C48,3,1,"A"),'NC Matrix'!$2:$2,0)))-1)="X", IF(LEN(OFFSET((INDEX(r_NCMATRIX,MATCH(REPLACE($C$21,3,1,"A"),r_NCMATRIX,0))),0,0,ROWS(r_NCMATRIX)))<>7, NA(),OFFSET((INDEX(r_NCMATRIX,MATCH(REPLACE($C$21,3,1,"A"),r_NCMATRIX,0))),0,0,ROWS(r_NCMATRIX))), OFFSET(r_NCMATRIX,0,COLUMN(INDEX('NC Matrix'!$2:$2,1,MATCH(REPLACE(C48,3,1,"A"),'NC Matrix'!$2:$2,0)))-1)="M", IF(LEN(OFFSET((INDEX(r_NCMATRIX,MATCH(REPLACE($C$21,3,1,"A"),r_NCMATRIX,0))),0,0,ROWS(r_NCMATRIX)))<>7, NA(),OFFSET((INDEX(r_NCMATRIX,MATCH(REPLACE($C$21,3,1,"A"),r_NCMATRIX,0))),0,0,ROWS(r_NCMATRIX))), TRUE,NA()),4),3),0),""),";",",")}
C49: BSA0155 | F49: =IF(D49="","",HYPERLINK(_xlfn.CONCAT("https://e-spares-dev.invacare.eu.com/catalog_dev/app?forcerestart=true&basket=false&partLang=en&docuLang=en&locale=en_GB&HOOK_URL=&k_vari_top=",_xlfn.ENCODEURL(D49),"&k_vari=",_xlfn.ENCODEURL(E49)),"ESPC")) | G49: p | H49: BLACK PU TR26 | I49: MUTLI STRETCH PU COATED FABRIC | K49: {=SUBSTITUTE(IFERROR(_xlfn.ARRAYTOTEXT(_xlfn.TOROW(RIGHT( _xlfn.IFS(OFFSET(r_NCMATRIX,0,COLUMN(INDEX('NC Matrix'!$2:$2,1,MATCH(REPLACE(C49,3,1,"A"),'NC Matrix'!$2:$2,0)))-1)="X", IF(LEN(OFFSET((INDEX(r_NCMATRIX,MATCH(REPLACE($C$21,3,1,"A"),r_NCMATRIX,0))),0,0,ROWS(r_NCMATRIX)))<>7, NA(),OFFSET((INDEX(r_NCMATRIX,MATCH(REPLACE($C$21,3,1,"A"),r_NCMATRIX,0))),0,0,ROWS(r_NCMATRIX))), OFFSET(r_NCMATRIX,0,COLUMN(INDEX('NC Matrix'!$2:$2,1,MATCH(REPLACE(C49,3,1,"A"),'NC Matrix'!$2:$2,0)))-1)="M", IF(LEN(OFFSET((INDEX(r_NCMATRIX,MATCH(REPLACE($C$21,3,1,"A"),r_NCMATRIX,0))),0,0,ROWS(r_NCMATRIX)))<>7, NA(),OFFSET((INDEX(r_NCMATRIX,MATCH(REPLACE($C$21,3,1,"A"),r_NCMATRIX,0))),0,0,ROWS(r_NCMATRIX))), TRUE,NA()),4),3),0),""),";",",")}
C50: BACKREST
C51: BACKREST TYPE
C52: BSA0160 | D52: #SPLAZALEA | E52: !SPS1526823 | F52: =IF(D52="","",HYPERLINK(_xlfn.CONCAT("https://e-spares-dev.invacare.eu.com/catalog_dev/app?forcerestart=true&basket=false&partLang=en&docuLang=en&locale=en_GB&HOOK_URL=&k_vari_top=",_xlfn.ENCODEURL(D52),"&k_vari=",_xlfn.ENCODEURL(E52)),"ESPC")) -> ESPC | G52: u | H52: BACKREST, TENSION ADJUSTABLE - PRE-ADJUSTED SPACE UPWARDS | K52: {=SUBSTITUTE(IFERROR(_xlfn.ARRAYTOTEXT(_xlfn.TOROW(RIGHT( _xlfn.IFS(OFFSET(r_NCMATRIX,0,COLUMN(INDEX('NC Matrix'!$2:$2,1,MATCH(REPLACE(C52,3,1,"A"),'NC Matrix'!$2:$2,0)))-1)="X", IF(LEN(OFFSET((INDEX(r_NCMATRIX,MATCH(REPLACE($C$21,3,1,"A"),r_NCMATRIX,0))),0,0,ROWS(r_NCMATRIX)))<>7, NA(),OFFSET((INDEX(r_NCMATRIX,MATCH(REPLACE($C$21,3,1,"A"),r_NCMATRIX,0))),0,0,ROWS(r_NCMATRIX))), OFFSET(r_NCMATRIX,0,COLUMN(INDEX('NC Matrix'!$2:$2,1,MATCH(REPLACE(C52,3,1,"A"),'NC Matrix'!$2:$2,0)))-1)="M", IF(LEN(OFFSET((INDEX(r_NCMATRIX,MATCH(REPLACE($C$21,3,1,"A"),r_NCMATRIX,0))),0,0,ROWS(r_NCMATRIX)))<>7, NA(),OFFSET((INDEX(r_NCMATRIX,MATCH(REPLACE($C$21,3,1,"A"),r_NCMATRIX,0))),0,0,ROWS(r_NCMATRIX))), TRUE,NA()),4),3),0),""),";",",")}
C53: BACKREST COVER/ CUSHION
C54: BSA0170 | D54: #SPLAZALEA | E54: <SPCAZALEA25 | F54: =IF(D54="","",HYPERLINK(_xlfn.CONCAT("https://e-spares-dev.invacare.eu.com/catalog_dev/app?forcerestart=true&basket=false&partLang=en&docuLang=en&locale=en_GB&HOOK_URL=&k_vari_top=",_xlfn.ENCODEURL(D54),"&k_vari=",_xlfn.ENCODEURL(E54)),"ESPC")) -> ESPC | G54: u | H54: COVER, LATERAL | I54: BACKREST UPHOLSTERY MANDATORY | K54: {=SUBSTITUTE(IFERROR(_xlfn.ARRAYTOTEXT(_xlfn.TOROW(RIGHT( _xlfn.IFS(OFFSET(r_NCMATRIX,0,COLUMN(INDEX('NC Matrix'!$2:$2,1,MATCH(REPLACE(C54,3,1,"A"),'NC Matrix'!$2:$2,0)))-1)="X", IF(LEN(OFFSET((INDEX(r_NCMATRIX,MATCH(REPLACE($C$21,3,1,"A"),r_NCMATRIX,0))),0,0,ROWS(r_NCMATRIX)))<>7, NA(),OFFSET((INDEX(r_NCMATRIX,MATCH(REPLACE($C$21,3,1,"A"),r_NCMATRIX,0))),0,0,ROWS(r_NCMATRIX))), OFFSET(r_NCMATRIX,0,COLUMN(INDEX('NC Matrix'!$2:$2,1,MATCH(REPLACE(C54,3,1,"A"),'NC Matrix'!$2:$2,0)))-1)="M", IF(LEN(OFFSET((INDEX(r_NCMATRIX,MATCH(REPLACE($C$21,3,1,"A"),r_NCMATRIX,0))),0,0,ROWS(r_NCMATRIX)))<>7, NA(),OFFSET((INDEX(r_NCMATRIX,MATCH(REPLACE($C$21,3,1,"A"),r_NCMATRIX,0))),0,0,ROWS(r_NCMATRIX))), TRUE,NA()),4),3),0),""),";",",")}
C55: BSA0180 | D55: #SPLAZALEA | E55: <SPCAZALEA25 | F55: =IF(D55="","",HYPERLINK(_xlfn.CONCAT("https://e-spares-dev.invacare.eu.com/catalog_dev/app?forcerestart=true&basket=false&partLang=en&docuLang=en&locale=en_GB&HOOK_URL=&k_vari_top=",_xlfn.ENCODEURL(D55),"&k_vari=",_xlfn.ENCODEURL(E55)),"ESPC")) -> ESPC | G55: p | H55: CUSHION, LAGUNA (LATERAL SUPPORT) | I55: BACKREST UPHOLSTERY MANDATORY | K55: {=SUBSTITUTE(IFERROR(_xlfn.ARRAYTOTEXT(_xlfn.TOROW(RIGHT( _xlfn.IFS(OFFSET(r_NCMATRIX,0,COLUMN(INDEX('NC Matrix'!$2:$2,1,MATCH(REPLACE(C55,3,1,"A"),'NC Matrix'!$2:$2,0)))-1)="X", IF(LEN(OFFSET((INDEX(r_NCMATRIX,MATCH(REPLACE($C$21,3,1,"A"),r_NCMATRIX,0))),0,0,ROWS(r_NCMATRIX)))<>7, NA(),OFFSET((INDEX(r_NCMATRIX,MATCH(REPLACE($C$21,3,1,"A"),r_NCMATRIX,0))),0,0,ROWS(r_NCMATRIX))), OFFSET(r_NCMATRIX,0,COLUMN(INDEX('NC Matrix'!$2:$2,1,MATCH(REPLACE(C55,3,1,"A"),'NC Matrix'!$2:$2,0)))-1)="M", IF(LEN(OFFSET((INDEX(r_NCMATRIX,MATCH(REPLACE($C$21,3,1,"A"),r_NCMATRIX,0))),0,0,ROWS(r_NCMATRIX)))<>7, NA(),OFFSET((INDEX(r_NCMATRIX,MATCH(REPLACE($C$21,3,1,"A"),r_NCMATRIX,0))),0,0,ROWS(r_NCMATRIX))), TRUE,NA()),4),3),0),""),";",",")} -> 0217, 0415
C56: BSA0190 | F56: =IF(D56="","",HYPERLINK(_xlfn.CONCAT("https://e-spares-dev.invacare.eu.com/catalog_dev/app?forcerestart=true&basket=false&partLang=en&docuLang=en&locale=en_GB&HOOK_URL=&k_vari_top=",_xlfn.ENCODEURL(D56),"&k_vari=",_xlfn.ENCODEURL(E56)),"ESPC")) | G56: p | H56: WITHOUT BACKREST COVER/ CUSHION | K56: {=SUBSTITUTE(IFERROR(_xlfn.ARRAYTOTEXT(_xlfn.TOROW(RIGHT( _xlfn.IFS(OFFSET(r_NCMATRIX,0,COLUMN(INDEX('NC Matrix'!$2:$2,1,MATCH(REPLACE(C56,3,1,"A"),'NC Matrix'!$2:$2,0)))-1)="X", IF(LEN(OFFSET((INDEX(r_NCMATRIX,MATCH(REPLACE($C$21,3,1,"A"),r_NCMATRIX,0))),0,0,ROWS(r_NCMATRIX)))<>7, NA(),OFFSET((INDEX(r_NCMATRIX,MATCH(REPLACE($C$21,3,1,"A"),r_NCMATRIX,0))),0,0,ROWS(r_NCMATRIX))), OFFSET(r_NCMATRIX,0,COLUMN(INDEX('NC Matrix'!$2:$2,1,MATCH(REPLACE(C56,3,1,"A"),'NC Matrix'!$2:$2,0)))-1)="M", IF(LEN(OFFSET((INDEX(r_NCMATRIX,MATCH(REPLACE($C$21,3,1,"A"),r_NCMATRIX,0))),0,0,ROWS(r_NCMATRIX)))<>7, NA(),OFFSET((INDEX(r_NCMATRIX,MATCH(REPLACE($C$21,3,1,"A"),r_NCMATRIX,0))),0,0,ROWS(r_NCMATRIX))), TRUE,NA()),4),3),0),""),";",",")} -> 0205, 0215, 0217, 0415
C57: BACKREST UPHOLSTERY
C58: BSA0205 | D58: #SPLAZALEA | E58: <SPCAZALEA25 | F58: =IF(D58="","",HYPERLINK(_xlfn.CONCAT("https://e-spares-dev.invacare.eu.com/catalog_dev/app?forcerestart=true&basket=false&partLang=en&docuLang=en&locale=en_GB&HOOK_URL=&k_vari_top=",_xlfn.ENCODEURL(D58),"&k_vari=",_xlfn.ENCODEURL(E58)),"ESPC")) -> ESPC | G58: u | H58: BLACK PLUSH TR35 | K58: {=SUBSTITUTE(IFERROR(_xlfn.ARRAYTOTEXT(_xlfn.TOROW(RIGHT( _xlfn.IFS(OFFSET(r_NCMATRIX,0,COLUMN(INDEX('NC Matrix'!$2:$2,1,MATCH(REPLACE(C58,3,1,"A"),'NC Matrix'!$2:$2,0)))-1)="X", IF(LEN(OFFSET((INDEX(r_NCMATRIX,MATCH(REPLACE($C$21,3,1,"A"),r_NCMATRIX,0))),0,0,ROWS(r_NCMATRIX)))<>7, NA(),OFFSET((INDEX(r_NCMATRIX,MATCH(REPLACE($C$21,3,1,"A"),r_NCMATRIX,0))),0,0,ROWS(r_NCMATRIX))), OFFSET(r_NCMATRIX,0,COLUMN(INDEX('NC Matrix'!$2:$2,1,MATCH(REPLACE(C58,3,1,"A"),'NC Matrix'!$2:$2,0)))-1)="M", IF(LEN(OFFSET((INDEX(r_NCMATRIX,MATCH(REPLACE($C$21,3,1,"A"),r_NCMATRIX,0))),0,0,ROWS(r_NCMATRIX)))<>7, NA(),OFFSET((INDEX(r_NCMATRIX,MATCH(REPLACE($C$21,3,1,"A"),r_NCMATRIX,0))),0,0,ROWS(r_NCMATRIX))), TRUE,NA()),4),3),0),""),";",",")}
C59: BSA0215 | D59: #SPLAZALEA | E59: <SPCAZALEA25 | F59: =IF(D59="","",HYPERLINK(_xlfn.CONCAT("https://e-spares-dev.invacare.eu.com/catalog_dev/app?forcerestart=true&basket=false&partLang=en&docuLang=en&locale=en_GB&HOOK_URL=&k_vari_top=",_xlfn.ENCODEURL(D59),"&k_vari=",_xlfn.ENCODEURL(E59)),"ESPC")) -> ESPC | G59: p | H59: BLACK PU TR26 | I59: MUTLI STRETCH PU COATED FABRIC | K59: {=SUBSTITUTE(IFERROR(_xlfn.ARRAYTOTEXT(_xlfn.TOROW(RIGHT( _xlfn.IFS(OFFSET(r_NCMATRIX,0,COLUMN(INDEX('NC Matrix'!$2:$2,1,MATCH(REPLACE(C59,3,1,"A"),'NC Matrix'!$2:$2,0)))-1)="X", IF(LEN(OFFSET((INDEX(r_NCMATRIX,MATCH(REPLACE($C$21,3,1,"A"),r_NCMATRIX,0))),0,0,ROWS(r_NCMATRIX)))<>7, NA(),OFFSET((INDEX(r_NCMATRIX,MATCH(REPLACE($C$21,3,1,"A"),r_NCMATRIX,0))),0,0,ROWS(r_NCMATRIX))), OFFSET(r_NCMATRIX,0,COLUMN(INDEX('NC Matrix'!$2:$2,1,MATCH(REPLACE(C59,3,1,"A"),'NC Matrix'!$2:$2,0)))-1)="M", IF(LEN(OFFSET((INDEX(r_NCMATRIX,MATCH(REPLACE($C$21,3,1,"A"),r_NCMATRIX,0))),0,0,ROWS(r_NCMATRIX)))<>7, NA(),OFFSET((INDEX(r_NCMATRIX,MATCH(REPLACE($C$21,3,1,"A"),r_NCMATRIX,0))),0,0,ROWS(r_NCMATRIX))), TRUE,NA()),4),3),0),""),";",",")}
C60: BSA0217 | D60: #SPLAZALEA | E60: <SPCAZALEA25 | F60: =IF(D60="","",HYPERLINK(_xlfn.CONCAT("https://e-spares-dev.invacare.eu.com/catalog_dev/app?forcerestart=true&basket=false&partLang=en&docuLang=en&locale=en_GB&HOOK_URL=&k_vari_top=",_xlfn.ENCODEURL(D60),"&k_vari=",_xlfn.ENCODEURL(E60)),"ESPC")) -> ESPC | G60: p | H60: BLACK SPACER TR36 | K60: {=SUBSTITUTE(IFERROR(_xlfn.ARRAYTOTEXT(_xlfn.TOROW(RIGHT( _xlfn.IFS(OFFSET(r_NCMATRIX,0,COLUMN(INDEX('NC Matrix'!$2:$2,1,MATCH(REPLACE(C60,3,1,"A"),'NC Matrix'!$2:$2,0)))-1)="X", IF(LEN(OFFSET((INDEX(r_NCMATRIX,MATCH(REPLACE($C$21,3,1,"A"),r_NCMATRIX,0))),0,0,ROWS(r_NCMATRIX)))<>7, NA(),OFFSET((INDEX(r_NCMATRIX,MATCH(REPLACE($C$21,3,1,"A"),r_NCMATRIX,0))),0,0,ROWS(r_NCMATRIX))), OFFSET(r_NCMATRIX,0,COLUMN(INDEX('NC Matrix'!$2:$2,1,MATCH(REPLACE(C60,3,1,"A"),'NC Matrix'!$2:$2,0)))-1)="M", IF(LEN(OFFSET((INDEX(r_NCMATRIX,MATCH(REPLACE($C$21,3,1,"A"),r_NCMATRIX,0))),0,0,ROWS(r_NCMATRIX)))<>7, NA(),OFFSET((INDEX(r_NCMATRIX,MATCH(REPLACE($C$21,3,1,"A"),r_NCMATRIX,0))),0,0,ROWS(r_NCMATRIX))), TRUE,NA()),4),3),0),""),";",",")}
C61: PUSHHANDLES
C62: BSA0220 | D62: #SPLAZALEA | E62: !SPS1523946 | F62: =IF(D62="","",HYPERLINK(_xlfn.CONCAT("https://e-spares-dev.invacare.eu.com/catalog_dev/app?forcerestart=true&basket=false&partLang=en&docuLang=en&locale=en_GB&HOOK_URL=&k_vari_top=",_xlfn.ENCODEURL(D62),"&k_vari=",_xlfn.ENCODEURL(E62)),"ESPC")) -> ESPC | G62: u | H62: PUSH HANDLES BRACED | K62: {=SUBSTITUTE(IFERROR(_xlfn.ARRAYTOTEXT(_xlfn.TOROW(RIGHT( _xlfn.IFS(OFFSET(r_NCMATRIX,0,COLUMN(INDEX('NC Matrix'!$2:$2,1,MATCH(REPLACE(C62,3,1,"A"),'NC Matrix'!$2:$2,0)))-1)="X", IF(LEN(OFFSET((INDEX(r_NCMATRIX,MATCH(REPLACE($C$21,3,1,"A"),r_NCMATRIX,0))),0,0,ROWS(r_NCMATRIX)))<>7, NA(),OFFSET((INDEX(r_NCMATRIX,MATCH(REPLACE($C$21,3,1,"A"),r_NCMATRIX,0))),0,0,ROWS(r_NCMATRIX))), OFFSET(r_NCMATRIX,0,COLUMN(INDEX('NC Matrix'!$2:$2,1,MATCH(REPLACE(C62,3,1,"A"),'NC Matrix'!$2:$2,0)))-1)="M", IF(LEN(OFFSET((INDEX(r_NCMATRIX,MATCH(REPLACE($C$21,3,1,"A"),r_NCMATRIX,0))),0,0,ROWS(r_NCMATRIX)))<>7, NA(),OFFSET((INDEX(r_NCMATRIX,MATCH(REPLACE($C$21,3,1,"A"),r_NCMATRIX,0))),0,0,ROWS(r_NCMATRIX))), TRUE,NA()),4),3),0),""),";",",")}
C63: BSA0230 | D63: #SPLAZALEA | E63: !SPS1523946 | F63: =IF(D63="","",HYPERLINK(_xlfn.CONCAT("https://e-spares-dev.invacare.eu.com/catalog_dev/app?forcerestart=true&basket=false&partLang=en&docuLang=en&locale=en_GB&HOOK_URL=&k_vari_top=",_xlfn.ENCODEURL(D63),"&k_vari=",_xlfn.ENCODEURL(E63)),"ESPC")) -> ESPC | G63: p | H63: HIGH PUSH BAR | K63: {=SUBSTITUTE(IFERROR(_xlfn.ARRAYTOTEXT(_xlfn.TOROW(RIGHT( _xlfn.IFS(OFFSET(r_NCMATRIX,0,COLUMN(INDEX('NC Matrix'!$2:$2,1,MATCH(REPLACE(C63,3,1,"A"),'NC Matrix'!$2:$2,0)))-1)="X", IF(LEN(OFFSET((INDEX(r_NCMATRIX,MATCH(REPLACE($C$21,3,1,"A"),r_NCMATRIX,0))),0,0,ROWS(r_NCMATRIX)))<>7, NA(),OFFSET((INDEX(r_NCMATRIX,MATCH(REPLACE($C$21,3,1,"A"),r_NCMATRIX,0))),0,0,ROWS(r_NCMATRIX))), OFFSET(r_NCMATRIX,0,COLUMN(INDEX('NC Matrix'!$2:$2,1,MATCH(REPLACE(C63,3,1,"A"),'NC Matrix'!$2:$2,0)))-1)="M", IF(LEN(OFFSET((INDEX(r_NCMATRIX,MATCH(REPLACE($C$21,3,1,"A"),r_NCMATRIX,0))),0,0,ROWS(r_NCMATRIX)))<>7, NA(),OFFSET((INDEX(r_NCMATRIX,MATCH(REPLACE($C$21,3,1,"A"),r_NCMATRIX,0))),0,0,ROWS(r_NCMATRIX))), TRUE,NA()),4),3),0),""),";",",")}
C64: SEATING
C65: SEAT TILT AND BACKREST REGULATION TYPE
C66: BSA0240 | D66: #SPLAZALEA | E66: !SPS1536332 | F66: =IF(D66="","",HYPERLINK(_xlfn.CONCAT("https://e-spares-dev.invacare.eu.com/catalog_dev/app?forcerestart=true&basket=false&partLang=en&docuLang=en&locale=en_GB&HOOK_URL=&k_vari_top=",_xlfn.ENCODEURL(D66),"&k_vari=",_xlfn.ENCODEURL(E66)),"ESPC")) -> ESPC | G66: p | H66: ASSISTANT OPERATED GAS PISTON SEAT AND BACKREST TILT. | I66: TILT LOCK MANDATORY | K66: {=SUBSTITUTE(IFERROR(_xlfn.ARRAYTOTEXT(_xlfn.TOROW(RIGHT( _xlfn.IFS(OFFSET(r_NCMATRIX,0,COLUMN(INDEX('NC Matrix'!$2:$2,1,MATCH(REPLACE(C66,3,1,"A"),'NC Matrix'!$2:$2,0)))-1)="X", IF(LEN(OFFSET((INDEX(r_NCMATRIX,MATCH(REPLACE($C$21,3,1,"A"),r_NCMATRIX,0))),0,0,ROWS(r_NCMATRIX)))<>7, NA(),OFFSET((INDEX(r_NCMATRIX,MATCH(REPLACE($C$21,3,1,"A"),r_NCMATRIX,0))),0,0,ROWS(r_NCMATRIX))), OFFSET(r_NCMATRIX,0,COLUMN(INDEX('NC Matrix'!$2:$2,1,MATCH(REPLACE(C66,3,1,"A"),'NC Matrix'!$2:$2,0)))-1)="M", IF(LEN(OFFSET((INDEX(r_NCMATRIX,MATCH(REPLACE($C$21,3,1,"A"),r_NCMATRIX,0))),0,0,ROWS(r_NCMATRIX)))<>7, NA(),OFFSET((INDEX(r_NCMATRIX,MATCH(REPLACE($C$21,3,1,"A"),r_NCMATRIX,0))),0,0,ROWS(r_NCMATRIX))), TRUE,NA()),4),3),0),""),";",",")}
C67: BSA0250 | D67: #SPLAZALEA | E67: !SPS1673207 | F67: =IF(D67="","",HYPERLINK(_xlfn.CONCAT("https://e-spares-dev.invacare.eu.com/catalog_dev/app?forcerestart=true&basket=false&partLang=en&docuLang=en&locale=en_GB&HOOK_URL=&k_vari_top=",_xlfn.ENCODEURL(D67),"&k_vari=",_xlfn.ENCODEURL(E67)),"ESPC")) -> ESPC | G67: u | H67: ELECTRICAL OPERATED SEAT AND BACKREST TILT. | K67: {=SUBSTITUTE(IFERROR(_xlfn.ARRAYTOTEXT(_xlfn.TOROW(RIGHT( _xlfn.IFS(OFFSET(r_NCMATRIX,0,COLUMN(INDEX('NC Matrix'!$2:$2,1,MATCH(REPLACE(C67,3,1,"A"),'NC Matrix'!$2:$2,0)))-1)="X", IF(LEN(OFFSET((INDEX(r_NCMATRIX,MATCH(REPLACE($C$21,3,1,"A"),r_NCMATRIX,0))),0,0,ROWS(r_NCMATRIX)))<>7, NA(),OFFSET((INDEX(r_NCMATRIX,MATCH(REPLACE($C$21,3,1,"A"),r_NCMATRIX,0))),0,0,ROWS(r_NCMATRIX))), OFFSET(r_NCMATRIX,0,COLUMN(INDEX('NC Matrix'!$2:$2,1,MATCH(REPLACE(C67,3,1,"A"),'NC Matrix'!$2:$2,0)))-1)="M", IF(LEN(OFFSET((INDEX(r_NCMATRIX,MATCH(REPLACE($C$21,3,1,"A"),r_NCMATRIX,0))),0,0,ROWS(r_NCMATRIX)))<>7, NA(),OFFSET((INDEX(r_NCMATRIX,MATCH(REPLACE($C$21,3,1,"A"),r_NCMATRIX,0))),0,0,ROWS(r_NCMATRIX))), TRUE,NA()),4),3),0),""),";",",")} -> 0605, 0450
C68: TILT LOCK
C69: BSA0605 | D69: #SPLAZALEA | E69: !SPS1536332 | F69: =IF(D69="","",HYPERLINK(_xlfn.CONCAT("https://e-spares-dev.invacare.eu.com/catalog_dev/app?forcerestart=true&basket=false&partLang=en&docuLang=en&locale=en_GB&HOOK_URL=&k_vari_top=",_xlfn.ENCODEURL(D69),"&k_vari=",_xlfn.ENCODEURL(E69)),"ESPC")) -> ESPC | G69: p | H69: TILT LOCK (LOCKING OF PRE-SET ANGLE) | K69: {=SUBSTITUTE(IFERROR(_xlfn.ARRAYTOTEXT(_xlfn.TOROW(RIGHT( _xlfn.IFS(OFFSET(r_NCMATRIX,0,COLUMN(INDEX('NC Matrix'!$2:$2,1,MATCH(REPLACE(C69,3,1,"A"),'NC Matrix'!$2:$2,0)))-1)="X", IF(LEN(OFFSET((INDEX(r_NCMATRIX,MATCH(REPLACE($C$21,3,1,"A"),r_NCMATRIX,0))),0,0,ROWS(r_NCMATRIX)))<>7, NA(),OFFSET((INDEX(r_NCMATRIX,MATCH(REPLACE($C$21,3,1,"A"),r_NCMATRIX,0))),0,0,ROWS(r_NCMATRIX))), OFFSET(r_NCMATRIX,0,COLUMN(INDEX('NC Matrix'!$2:$2,1,MATCH(REPLACE(C69,3,1,"A"),'NC Matrix'!$2:$2,0)))-1)="M", IF(LEN(OFFSET((INDEX(r_NCMATRIX,MATCH(REPLACE($C$21,3,1,"A"),r_NCMATRIX,0))),0,0,ROWS(r_NCMATRIX)))<>7, NA(),OFFSET((INDEX(r_NCMATRIX,MATCH(REPLACE($C$21,3,1,"A"),r_NCMATRIX,0))),0,0,ROWS(r_NCMATRIX))), TRUE,NA()),4),3),0),""),";",",")}
C70: LEGRESTS / FOOTRESTS
C71: LEGRESTS / HANGERS TYPE
C72: BSA0260 | D72: #SPLAZALEA | E72: <SPCAZALEA30 | F72: =IF(D72="","",HYPERLINK(_xlfn.CONCAT("https://e-spares-dev.invacare.eu.com/catalog_dev/app?forcerestart=true&basket=false&partLang=en&docuLang=en&locale=en_GB&HOOK_URL=&k_vari_top=",_xlfn.ENCODEURL(D72),"&k_vari=",_xlfn.ENCODEURL(E72)),"ESPC")) -> ESPC | G72: u | H72: HANGER ANGLE ADJUSTABLE WITH KNEE PAD AND REINFORCED, SEPARATE CALF SUPPORT, PAIR | K72: {=SUBSTITUTE(IFERROR(_xlfn.ARRAYTOTEXT(_xlfn.TOROW(RIGHT( _xlfn.IFS(OFFSET(r_NCMATRIX,0,COLUMN(INDEX('NC Matrix'!$2:$2,1,MATCH(REPLACE(C72,3,1,"A"),'NC Matrix'!$2:$2,0)))-1)="X", IF(LEN(OFFSET((INDEX(r_NCMATRIX,MATCH(REPLACE($C$21,3,1,"A"),r_NCMATRIX,0))),0,0,ROWS(r_NCMATRIX)))<>7, NA(),OFFSET((INDEX(r_NCMATRIX,MATCH(REPLACE($C$21,3,1,"A"),r_NCMATRIX,0))),0,0,ROWS(r_NCMATRIX))), OFFSET(r_NCMATRIX,0,COLUMN(INDEX('NC Matrix'!$2:$2,1,MATCH(REPLACE(C72,3,1,"A"),'NC Matrix'!$2:$2,0)))-1)="M", IF(LEN(OFFSET((INDEX(r_NCMATRIX,MATCH(REPLACE($C$21,3,1,"A"),r_NCMATRIX,0))),0,0,ROWS(r_NCMATRIX)))<>7, NA(),OFFSET((INDEX(r_NCMATRIX,MATCH(REPLACE($C$21,3,1,"A"),r_NCMATRIX,0))),0,0,ROWS(r_NCMATRIX))), TRUE,NA()),4),3),0),""),";",",")}
C73: BSA0270 | F73: =IF(D73="","",HYPERLINK(_xlfn.CONCAT("https://e-spares-dev.invacare.eu.com/catalog_dev/app?forcerestart=true&basket=false&partLang=en&docuLang=en&locale=en_GB&HOOK_URL=&k_vari_top=",_xlfn.ENCODEURL(D73),"&k_vari=",_xlfn.ENCODEURL(E73)),"ESPC")) | G73: p | H73: WITHOUT LEGRESTS / FOOTRESTS | K73: {=SUBSTITUTE(IFERROR(_xlfn.ARRAYTOTEXT(_xlfn.TOROW(RIGHT( _xlfn.IFS(OFFSET(r_NCMATRIX,0,COLUMN(INDEX('NC Matrix'!$2:$2,1,MATCH(REPLACE(C73,3,1,"A"),'NC Matrix'!$2:$2,0)))-1)="X", IF(LEN(OFFSET((INDEX(r_NCMATRIX,MATCH(REPLACE($C$21,3,1,"A"),r_NCMATRIX,0))),0,0,ROWS(r_NCMATRIX)))<>7, NA(),OFFSET((INDEX(r_NCMATRIX,MATCH(REPLACE($C$21,3,1,"A"),r_NCMATRIX,0))),0,0,ROWS(r_NCMATRIX))), OFFSET(r_NCMATRIX,0,COLUMN(INDEX('NC Matrix'!$2:$2,1,MATCH(REPLACE(C73,3,1,"A"),'NC Matrix'!$2:$2,0)))-1)="M", IF(LEN(OFFSET((INDEX(r_NCMATRIX,MATCH(REPLACE($C$21,3,1,"A"),r_NCMATRIX,0))),0,0,ROWS(r_NCMATRIX)))<>7, NA(),OFFSET((INDEX(r_NCMATRIX,MATCH(REPLACE($C$21,3,1,"A"),r_NCMATRIX,0))),0,0,ROWS(r_NCMATRIX))), TRUE,NA()),4),3),0),""),";",",")} -> 0280, 0290, 0291, 0292, 0293
C74: FOOTRESTS TYPE
C75: BSA0280 | D75: #SPLAZALEA | E75: !SPS1524721 | F75: =IF(D75="","",HYPERLINK(_xlfn.CONCAT("https://e-spares-dev.invacare.eu.com/catalog_dev/app?forcerestart=true&basket=false&partLang=en&docuLang=en&locale=en_GB&HOOK_URL=&k_vari_top=",_xlfn.ENCODEURL(D75),"&k_vari=",_xlfn.ENCODEURL(E75)),"ESPC")) -> ESPC | G75: p | H75: FOOTREST LOWER PART, DEPTH AND ANGLE ADJUSTABLE WITH SHORT TUBE AND FOOTBOARD CONVERTER, PAIR | K75: {=SUBSTITUTE(IFERROR(_xlfn.ARRAYTOTEXT(_xlfn.TOROW(RIGHT( _xlfn.IFS(OFFSET(r_NCMATRIX,0,COLUMN(INDEX('NC Matrix'!$2:$2,1,MATCH(REPLACE(C75,3,1,"A"),'NC Matrix'!$2:$2,0)))-1)="X", IF(LEN(OFFSET((INDEX(r_NCMATRIX,MATCH(REPLACE($C$21,3,1,"A"),r_NCMATRIX,0))),0,0,ROWS(r_NCMATRIX)))<>7, NA(),OFFSET((INDEX(r_NCMATRIX,MATCH(REPLACE($C$21,3,1,"A"),r_NCMATRIX,0))),0,0,ROWS(r_NCMATRIX))), OFFSET(r_NCMATRIX,0,COLUMN(INDEX('NC Matrix'!$2:$2,1,MATCH(REPLACE(C75,3,1,"A"),'NC Matrix'!$2:$2,0)))-1)="M", IF(LEN(OFFSET((INDEX(r_NCMATRIX,MATCH(REPLACE($C$21,3,1,"A"),r_NCMATRIX,0))),0,0,ROWS(r_NCMATRIX)))<>7, NA(),OFFSET((INDEX(r_NCMATRIX,MATCH(REPLACE($C$21,3,1,"A"),r_NCMATRIX,0))),0,0,ROWS(r_NCMATRIX))), TRUE,NA()),4),3),0),""),";",",")}
C76: BSA0290 | D76: #SPLAZALEA | E76: !SPS1524721 | F76: =IF(D76="","",HYPERLINK(_xlfn.CONCAT("https://e-spares-dev.invacare.eu.com/catalog_dev/app?forcerestart=true&basket=false&partLang=en&docuLang=en&locale=en_GB&HOOK_URL=&k_vari_top=",_xlfn.ENCODEURL(D76),"&k_vari=",_xlfn.ENCODEURL(E76)),"ESPC")) -> ESPC | G76: u | H76: FOOTREST LOWER PART, DEPTH AND ANGLE ADJUSTABLE WITH LONG TUBE AND FOOTBOARD CONVERTER, PAIR | K76: {=SUBSTITUTE(IFERROR(_xlfn.ARRAYTOTEXT(_xlfn.TOROW(RIGHT( _xlfn.IFS(OFFSET(r_NCMATRIX,0,COLUMN(INDEX('NC Matrix'!$2:$2,1,MATCH(REPLACE(C76,3,1,"A"),'NC Matrix'!$2:$2,0)))-1)="X", IF(LEN(OFFSET((INDEX(r_NCMATRIX,MATCH(REPLACE($C$21,3,1,"A"),r_NCMATRIX,0))),0,0,ROWS(r_NCMATRIX)))<>7, NA(),OFFSET((INDEX(r_NCMATRIX,MATCH(REPLACE($C$21,3,1,"A"),r_NCMATRIX,0))),0,0,ROWS(r_NCMATRIX))), OFFSET(r_NCMATRIX,0,COLUMN(INDEX('NC Matrix'!$2:$2,1,MATCH(REPLACE(C76,3,1,"A"),'NC Matrix'!$2:$2,0)))-1)="M", IF(LEN(OFFSET((INDEX(r_NCMATRIX,MATCH(REPLACE($C$21,3,1,"A"),r_NCMATRIX,0))),0,0,ROWS(r_NCMATRIX)))<>7, NA(),OFFSET((INDEX(r_NCMATRIX,MATCH(REPLACE($C$21,3,1,"A"),r_NCMATRIX,0))),0,0,ROWS(r_NCMATRIX))), TRUE,NA()),4),3),0),""),";",",")}
C77: LEGREST OPTIONS
C78: BSA0291 | D78: #SPLAZALEA | E78: !SPS1563433 | F78: =IF(D78="","",HYPERLINK(_xlfn.CONCAT("https://e-spares-dev.invacare.eu.com/catalog_dev/app?forcerestart=true&basket=false&partLang=en&docuLang=en&locale=en_GB&HOOK_URL=&k_vari_top=",_xlfn.ENCODEURL(D78),"&k_vari=",_xlfn.ENCODEURL(E78)),"ESPC")) -> ESPC | G78: p | H78: AMPUTATION LEGREST, LH | K78: {=SUBSTITUTE(IFERROR(_xlfn.ARRAYTOTEXT(_xlfn.TOROW(RIGHT( _xlfn.IFS(OFFSET(r_NCMATRIX,0,COLUMN(INDEX('NC Matrix'!$2:$2,1,MATCH(REPLACE(C78,3,1,"A"),'NC Matrix'!$2:$2,0)))-1)="X", IF(LEN(OFFSET((INDEX(r_NCMATRIX,MATCH(REPLACE($C$21,3,1,"A"),r_NCMATRIX,0))),0,0,ROWS(r_NCMATRIX)))<>7, NA(),OFFSET((INDEX(r_NCMATRIX,MATCH(REPLACE($C$21,3,1,"A"),r_NCMATRIX,0))),0,0,ROWS(r_NCMATRIX))), OFFSET(r_NCMATRIX,0,COLUMN(INDEX('NC Matrix'!$2:$2,1,MATCH(REPLACE(C78,3,1,"A"),'NC Matrix'!$2:$2,0)))-1)="M", IF(LEN(OFFSET((INDEX(r_NCMATRIX,MATCH(REPLACE($C$21,3,1,"A"),r_NCMATRIX,0))),0,0,ROWS(r_NCMATRIX)))<>7, NA(),OFFSET((INDEX(r_NCMATRIX,MATCH(REPLACE($C$21,3,1,"A"),r_NCMATRIX,0))),0,0,ROWS(r_NCMATRIX))), TRUE,NA()),4),3),0),""),";",",")}
C79: BSA0292 | D79: #SPLAZALEA | E79: !SPS1563433 | F79: =IF(D79="","",HYPERLINK(_xlfn.CONCAT("https://e-spares-dev.invacare.eu.com/catalog_dev/app?forcerestart=true&basket=false&partLang=en&docuLang=en&locale=en_GB&HOOK_URL=&k_vari_top=",_xlfn.ENCODEURL(D79),"&k_vari=",_xlfn.ENCODEURL(E79)),"ESPC")) -> ESPC | G79: p | H79: AMPUTATION LEGREST, RH | K79: {=SUBSTITUTE(IFERROR(_xlfn.ARRAYTOTEXT(_xlfn.TOROW(RIGHT( _xlfn.IFS(OFFSET(r_NCMATRIX,0,COLUMN(INDEX('NC Matrix'!$2:$2,1,MATCH(REPLACE(C79,3,1,"A"),'NC Matrix'!$2:$2,0)))-1)="X", IF(LEN(OFFSET((INDEX(r_NCMATRIX,MATCH(REPLACE($C$21,3,1,"A"),r_NCMATRIX,0))),0,0,ROWS(r_NCMATRIX)))<>7, NA(),OFFSET((INDEX(r_NCMATRIX,MATCH(REPLACE($C$21,3,1,"A"),r_NCMATRIX,0))),0,0,ROWS(r_NCMATRIX))), OFFSET(r_NCMATRIX,0,COLUMN(INDEX('NC Matrix'!$2:$2,1,MATCH(REPLACE(C79,3,1,"A"),'NC Matrix'!$2:$2,0)))-1)="M", IF(LEN(OFFSET((INDEX(r_NCMATRIX,MATCH(REPLACE($C$21,3,1,"A"),r_NCMATRIX,0))),0,0,ROWS(r_NCMATRIX)))<>7, NA(),OFFSET((INDEX(r_NCMATRIX,MATCH(REPLACE($C$21,3,1,"A"),r_NCMATRIX,0))),0,0,ROWS(r_NCMATRIX))), TRUE,NA()),4),3),0),""),";",",")}
C80: BSA0293 | D80: #SPLAZALEA | E80: !SPS1524721 | F80: =IF(D80="","",HYPERLINK(_xlfn.CONCAT("https://e-spares-dev.invacare.eu.com/catalog_dev/app?forcerestart=true&basket=false&partLang=en&docuLang=en&locale=en_GB&HOOK_URL=&k_vari_top=",_xlfn.ENCODEURL(D80),"&k_vari=",_xlfn.ENCODEURL(E80)),"ESPC")) -> ESPC | G80: u | H80: HEEL STRAP | K80: {=SUBSTITUTE(IFERROR(_xlfn.ARRAYTOTEXT(_xlfn.TOROW(RIGHT( _xlfn.IFS(OFFSET(r_NCMATRIX,0,COLUMN(INDEX('NC Matrix'!$2:$2,1,MATCH(REPLACE(C80,3,1,"A"),'NC Matrix'!$2:$2,0)))-1)="X", IF(LEN(OFFSET((INDEX(r_NCMATRIX,MATCH(REPLACE($C$21,3,1,"A"),r_NCMATRIX,0))),0,0,ROWS(r_NCMATRIX)))<>7, NA(),OFFSET((INDEX(r_NCMATRIX,MATCH(REPLACE($C$21,3,1,"A"),r_NCMATRIX,0))),0,0,ROWS(r_NCMATRIX))), OFFSET(r_NCMATRIX,0,COLUMN(INDEX('NC Matrix'!$2:$2,1,MATCH(REPLACE(C80,3,1,"A"),'NC Matrix'!$2:$2,0)))-1)="M", IF(LEN(OFFSET((INDEX(r_NCMATRIX,MATCH(REPLACE($C$21,3,1,"A"),r_NCMATRIX,0))),0,0,ROWS(r_NCMATRIX)))<>7, NA(),OFFSET((INDEX(r_NCMATRIX,MATCH(REPLACE($C$21,3,1,"A"),r_NCMATRIX,0))),0,0,ROWS(r_NCMATRIX))), TRUE,NA()),4),3),0),""),";",",")}
C81: ARMRESTS (Height adjustable, Autolock attachement included)
C82: ARMRESTS LH TYPE
C83: BSA0300 | D83: #SPLAZALEA | E83: !SPS1651584 | F83: =IF(D83="","",HYPERLINK(_xlfn.CONCAT("https://e-spares-dev.invacare.eu.com/catalog_dev/app?forcerestart=true&basket=false&partLang=en&docuLang=en&locale=en_GB&HOOK_URL=&k_vari_top=",_xlfn.ENCODEURL(D83),"&k_vari=",_xlfn.ENCODEURL(E83)),"ESPC")) -> ESPC | G83: u | H83: REINFORCED, WIDE PAD, LH | K83: {=SUBSTITUTE(IFERROR(_xlfn.ARRAYTOTEXT(_xlfn.TOROW(RIGHT( _xlfn.IFS(OFFSET(r_NCMATRIX,0,COLUMN(INDEX('NC Matrix'!$2:$2,1,MATCH(REPLACE(C83,3,1,"A"),'NC Matrix'!$2:$2,0)))-1)="X", IF(LEN(OFFSET((INDEX(r_NCMATRIX,MATCH(REPLACE($C$21,3,1,"A"),r_NCMATRIX,0))),0,0,ROWS(r_NCMATRIX)))<>7, NA(),OFFSET((INDEX(r_NCMATRIX,MATCH(REPLACE($C$21,3,1,"A"),r_NCMATRIX,0))),0,0,ROWS(r_NCMATRIX))), OFFSET(r_NCMATRIX,0,COLUMN(INDEX('NC Matrix'!$2:$2,1,MATCH(REPLACE(C83,3,1,"A"),'NC Matrix'!$2:$2,0)))-1)="M", IF(LEN(OFFSET((INDEX(r_NCMATRIX,MATCH(REPLACE($C$21,3,1,"A"),r_NCMATRIX,0))),0,0,ROWS(r_NCMATRIX)))<>7, NA(),OFFSET((INDEX(r_NCMATRIX,MATCH(REPLACE($C$21,3,1,"A"),r_NCMATRIX,0))),0,0,ROWS(r_NCMATRIX))), TRUE,NA()),4),3),0),""),";",",")}
C84: BSA0305 | D84: #SPLAZALEA | E84: !SPS1563965 | F84: =IF(D84="","",HYPERLINK(_xlfn.CONCAT("https://e-spares-dev.invacare.eu.com/catalog_dev/app?forcerestart=true&basket=false&partLang=en&docuLang=en&locale=en_GB&HOOK_URL=&k_vari_top=",_xlfn.ENCODEURL(D84),"&k_vari=",_xlfn.ENCODEURL(E84)),"ESPC")) -> ESPC | G84: p | H84: LOW, STANDARD PAD, LH | K84: {=SUBSTITUTE(IFERROR(_xlfn.ARRAYTOTEXT(_xlfn.TOROW(RIGHT( _xlfn.IFS(OFFSET(r_NCMATRIX,0,COLUMN(INDEX('NC Matrix'!$2:$2,1,MATCH(REPLACE(C84,3,1,"A"),'NC Matrix'!$2:$2,0)))-1)="X", IF(LEN(OFFSET((INDEX(r_NCMATRIX,MATCH(REPLACE($C$21,3,1,"A"),r_NCMATRIX,0))),0,0,ROWS(r_NCMATRIX)))<>7, NA(),OFFSET((INDEX(r_NCMATRIX,MATCH(REPLACE($C$21,3,1,"A"),r_NCMATRIX,0))),0,0,ROWS(r_NCMATRIX))), OFFSET(r_NCMATRIX,0,COLUMN(INDEX('NC Matrix'!$2:$2,1,MATCH(REPLACE(C84,3,1,"A"),'NC Matrix'!$2:$2,0)))-1)="M", IF(LEN(OFFSET((INDEX(r_NCMATRIX,MATCH(REPLACE($C$21,3,1,"A"),r_NCMATRIX,0))),0,0,ROWS(r_NCMATRIX)))<>7, NA(),OFFSET((INDEX(r_NCMATRIX,MATCH(REPLACE($C$21,3,1,"A"),r_NCMATRIX,0))),0,0,ROWS(r_NCMATRIX))), TRUE,NA()),4),3),0),""),";",",")} -> 0600, 0625
C85: BSA0310 | F85: =IF(D85="","",HYPERLINK(_xlfn.CONCAT("https://e-spares-dev.invacare.eu.com/catalog_dev/app?forcerestart=true&basket=false&partLang=en&docuLang=en&locale=en_GB&HOOK_URL=&k_vari_top=",_xlfn.ENCODEURL(D85),"&k_vari=",_xlfn.ENCODEURL(E85)),"ESPC")) | G85: p | H85: WITHOUT ARMREST, LH | K85: {=SUBSTITUTE(IFERROR(_xlfn.ARRAYTOTEXT(_xlfn.TOROW(RIGHT( _xlfn.IFS(OFFSET(r_NCMATRIX,0,COLUMN(INDEX('NC Matrix'!$2:$2,1,MATCH(REPLACE(C85,3,1,"A"),'NC Matrix'!$2:$2,0)))-1)="X", IF(LEN(OFFSET((INDEX(r_NCMATRIX,MATCH(REPLACE($C$21,3,1,"A"),r_NCMATRIX,0))),0,0,ROWS(r_NCMATRIX)))<>7, NA(),OFFSET((INDEX(r_NCMATRIX,MATCH(REPLACE($C$21,3,1,"A"),r_NCMATRIX,0))),0,0,ROWS(r_NCMATRIX))), OFFSET(r_NCMATRIX,0,COLUMN(INDEX('NC Matrix'!$2:$2,1,MATCH(REPLACE(C85,3,1,"A"),'NC Matrix'!$2:$2,0)))-1)="M", IF(LEN(OFFSET((INDEX(r_NCMATRIX,MATCH(REPLACE($C$21,3,1,"A"),r_NCMATRIX,0))),0,0,ROWS(r_NCMATRIX)))<>7, NA(),OFFSET((INDEX(r_NCMATRIX,MATCH(REPLACE($C$21,3,1,"A"),r_NCMATRIX,0))),0,0,ROWS(r_NCMATRIX))), TRUE,NA()),4),3),0),""),";",",")} -> 0625
C86: ARMRESTS RH TYPE
C87: BSA0320 | D87: #SPLAZALEA | E87: !SPS1651584 | F87: =IF(D87="","",HYPERLINK(_xlfn.CONCAT("https://e-spares-dev.invacare.eu.com/catalog_dev/app?forcerestart=true&basket=false&partLang=en&docuLang=en&locale=en_GB&HOOK_URL=&k_vari_top=",_xlfn.ENCODEURL(D87),"&k_vari=",_xlfn.ENCODEURL(E87)),"ESPC")) -> ESPC | G87: u | H87: REINFORCED, WIDE PAD, RH | K87: {=SUBSTITUTE(IFERROR(_xlfn.ARRAYTOTEXT(_xlfn.TOROW(RIGHT( _xlfn.IFS(OFFSET(r_NCMATRIX,0,COLUMN(INDEX('NC Matrix'!$2:$2,1,MATCH(REPLACE(C87,3,1,"A"),'NC Matrix'!$2:$2,0)))-1)="X", IF(LEN(OFFSET((INDEX(r_NCMATRIX,MATCH(REPLACE($C$21,3,1,"A"),r_NCMATRIX,0))),0,0,ROWS(r_NCMATRIX)))<>7, NA(),OFFSET((INDEX(r_NCMATRIX,MATCH(REPLACE($C$21,3,1,"A"),r_NCMATRIX,0))),0,0,ROWS(r_NCMATRIX))), OFFSET(r_NCMATRIX,0,COLUMN(INDEX('NC Matrix'!$2:$2,1,MATCH(REPLACE(C87,3,1,"A"),'NC Matrix'!$2:$2,0)))-1)="M", IF(LEN(OFFSET((INDEX(r_NCMATRIX,MATCH(REPLACE($C$21,3,1,"A"),r_NCMATRIX,0))),0,0,ROWS(r_NCMATRIX)))<>7, NA(),OFFSET((INDEX(r_NCMATRIX,MATCH(REPLACE($C$21,3,1,"A"),r_NCMATRIX,0))),0,0,ROWS(r_NCMATRIX))), TRUE,NA()),4),3),0),""),";",",")}
C88: BSA0325 | D88: #SPLAZALEA | E88: !SPS1563965 | F88: =IF(D88="","",HYPERLINK(_xlfn.CONCAT("https://e-spares-dev.invacare.eu.com/catalog_dev/app?forcerestart=true&basket=false&partLang=en&docuLang=en&locale=en_GB&HOOK_URL=&k_vari_top=",_xlfn.ENCODEURL(D88),"&k_vari=",_xlfn.ENCODEURL(E88)),"ESPC")) -> ESPC | G88: p | H88: LOW, STANDARD PAD, RH | K88: {=SUBSTITUTE(IFERROR(_xlfn.ARRAYTOTEXT(_xlfn.TOROW(RIGHT( _xlfn.IFS(OFFSET(r_NCMATRIX,0,COLUMN(INDEX('NC Matrix'!$2:$2,1,MATCH(REPLACE(C88,3,1,"A"),'NC Matrix'!$2:$2,0)))-1)="X", IF(LEN(OFFSET((INDEX(r_NCMATRIX,MATCH(REPLACE($C$21,3,1,"A"),r_NCMATRIX,0))),0,0,ROWS(r_NCMATRIX)))<>7, NA(),OFFSET((INDEX(r_NCMATRIX,MATCH(REPLACE($C$21,3,1,"A"),r_NCMATRIX,0))),0,0,ROWS(r_NCMATRIX))), OFFSET(r_NCMATRIX,0,COLUMN(INDEX('NC Matrix'!$2:$2,1,MATCH(REPLACE(C88,3,1,"A"),'NC Matrix'!$2:$2,0)))-1)="M", IF(LEN(OFFSET((INDEX(r_NCMATRIX,MATCH(REPLACE($C$21,3,1,"A"),r_NCMATRIX,0))),0,0,ROWS(r_NCMATRIX)))<>7, NA(),OFFSET((INDEX(r_NCMATRIX,MATCH(REPLACE($C$21,3,1,"A"),r_NCMATRIX,0))),0,0,ROWS(r_NCMATRIX))), TRUE,NA()),4),3),0),""),";",",")} -> 0600, 0625
C89: BSA0330 | F89: =IF(D89="","",HYPERLINK(_xlfn.CONCAT("https://e-spares-dev.invacare.eu.com/catalog_dev/app?forcerestart=true&basket=false&partLang=en&docuLang=en&locale=en_GB&HOOK_URL=&k_vari_top=",_xlfn.ENCODEURL(D89),"&k_vari=",_xlfn.ENCODEURL(E89)),"ESPC")) | G89: p | H89: WITHOUT ARMREST, RH | K89: {=SUBSTITUTE(IFERROR(_xlfn.ARRAYTOTEXT(_xlfn.TOROW(RIGHT( _xlfn.IFS(OFFSET(r_NCMATRIX,0,COLUMN(INDEX('NC Matrix'!$2:$2,1,MATCH(REPLACE(C89,3,1,"A"),'NC Matrix'!$2:$2,0)))-1)="X", IF(LEN(OFFSET((INDEX(r_NCMATRIX,MATCH(REPLACE($C$21,3,1,"A"),r_NCMATRIX,0))),0,0,ROWS(r_NCMATRIX)))<>7, NA(),OFFSET((INDEX(r_NCMATRIX,MATCH(REPLACE($C$21,3,1,"A"),r_NCMATRIX,0))),0,0,ROWS(r_NCMATRIX))), OFFSET(r_NCMATRIX,0,COLUMN(INDEX('NC Matrix'!$2:$2,1,MATCH(REPLACE(C89,3,1,"A"),'NC Matrix'!$2:$2,0)))-1)="M", IF(LEN(OFFSET((INDEX(r_NCMATRIX,MATCH(REPLACE($C$21,3,1,"A"),r_NCMATRIX,0))),0,0,ROWS(r_NCMATRIX)))<>7, NA(),OFFSET((INDEX(r_NCMATRIX,MATCH(REPLACE($C$21,3,1,"A"),r_NCMATRIX,0))),0,0,ROWS(r_NCMATRIX))), TRUE,NA()),4),3),0),""),";",",")} -> 0625
C90: SEATING OPTIONS
C91: ARMREST OPTIONS
C92: BSA0340 | D92: #SPLAZALEA | E92: <SPCAZALEA40 | F92: =IF(D92="","",HYPERLINK(_xlfn.CONCAT("https://e-spares-dev.invacare.eu.com/catalog_dev/app?forcerestart=true&basket=false&partLang=en&docuLang=en&locale=en_GB&HOOK_URL=&k_vari_top=",_xlfn.ENCODEURL(D92),"&k_vari=",_xlfn.ENCODEURL(E92)),"ESPC")) -> ESPC | G92: u | H92: SIDE SUPPORT COVER | K92: {=SUBSTITUTE(IFERROR(_xlfn.ARRAYTOTEXT(_xlfn.TOROW(RIGHT( _xlfn.IFS(OFFSET(r_NCMATRIX,0,COLUMN(INDEX('NC Matrix'!$2:$2,1,MATCH(REPLACE(C92,3,1,"A"),'NC Matrix'!$2:$2,0)))-1)="X", IF(LEN(OFFSET((INDEX(r_NCMATRIX,MATCH(REPLACE($C$21,3,1,"A"),r_NCMATRIX,0))),0,0,ROWS(r_NCMATRIX)))<>7, NA(),OFFSET((INDEX(r_NCMATRIX,MATCH(REPLACE($C$21,3,1,"A"),r_NCMATRIX,0))),0,0,ROWS(r_NCMATRIX))), OFFSET(r_NCMATRIX,0,COLUMN(INDEX('NC Matrix'!$2:$2,1,MATCH(REPLACE(C92,3,1,"A"),'NC Matrix'!$2:$2,0)))-1)="M", IF(LEN(OFFSET((INDEX(r_NCMATRIX,MATCH(REPLACE($C$21,3,1,"A"),r_NCMATRIX,0))),0,0,ROWS(r_NCMATRIX)))<>7, NA(),OFFSET((INDEX(r_NCMATRIX,MATCH(REPLACE($C$21,3,1,"A"),r_NCMATRIX,0))),0,0,ROWS(r_NCMATRIX))), TRUE,NA()),4),3),0),""),";",",")}
C93: BSA0350 | D93: #SPLAZALEA | E93: <SPCAZALEA40 | F93: =IF(D93="","",HYPERLINK(_xlfn.CONCAT("https://e-spares-dev.invacare.eu.com/catalog_dev/app?forcerestart=true&basket=false&partLang=en&docuLang=en&locale=en_GB&HOOK_URL=&k_vari_top=",_xlfn.ENCODEURL(D93),"&k_vari=",_xlfn.ENCODEURL(E93)),"ESPC")) -> ESPC | G93: p | H93: CUSHION TO SIDE SUPPORT COVER | I93: SIDE SUPPORT COVER MANDATORY | K93: {=SUBSTITUTE(IFERROR(_xlfn.ARRAYTOTEXT(_xlfn.TOROW(RIGHT( _xlfn.IFS(OFFSET(r_NCMATRIX,0,COLUMN(INDEX('NC Matrix'!$2:$2,1,MATCH(REPLACE(C93,3,1,"A"),'NC Matrix'!$2:$2,0)))-1)="X", IF(LEN(OFFSET((INDEX(r_NCMATRIX,MATCH(REPLACE($C$21,3,1,"A"),r_NCMATRIX,0))),0,0,ROWS(r_NCMATRIX)))<>7, NA(),OFFSET((INDEX(r_NCMATRIX,MATCH(REPLACE($C$21,3,1,"A"),r_NCMATRIX,0))),0,0,ROWS(r_NCMATRIX))), OFFSET(r_NCMATRIX,0,COLUMN(INDEX('NC Matrix'!$2:$2,1,MATCH(REPLACE(C93,3,1,"A"),'NC Matrix'!$2:$2,0)))-1)="M", IF(LEN(OFFSET((INDEX(r_NCMATRIX,MATCH(REPLACE($C$21,3,1,"A"),r_NCMATRIX,0))),0,0,ROWS(r_NCMATRIX)))<>7, NA(),OFFSET((INDEX(r_NCMATRIX,MATCH(REPLACE($C$21,3,1,"A"),r_NCMATRIX,0))),0,0,ROWS(r_NCMATRIX))), TRUE,NA()),4),3),0),""),";",",")}
C94: SEAT OPTIONS
C95: BSA0360 | D95: #SPLAZALEA | E95: !SPS5253078 | F95: =IF(D95="","",HYPERLINK(_xlfn.CONCAT("https://e-spares-dev.invacare.eu.com/catalog_dev/app?forcerestart=true&basket=false&partLang=en&docuLang=en&locale=en_GB&HOOK_URL=&k_vari_top=",_xlfn.ENCODEURL(D95),"&k_vari=",_xlfn.ENCODEURL(E95)),"ESPC")) -> ESPC | G95: p | H95: INCONTINENCE COVER | K95: {=SUBSTITUTE(IFERROR(_xlfn.ARRAYTOTEXT(_xlfn.TOROW(RIGHT( _xlfn.IFS(OFFSET(r_NCMATRIX,0,COLUMN(INDEX('NC Matrix'!$2:$2,1,MATCH(REPLACE(C95,3,1,"A"),'NC Matrix'!$2:$2,0)))-1)="X", IF(LEN(OFFSET((INDEX(r_NCMATRIX,MATCH(REPLACE($C$21,3,1,"A"),r_NCMATRIX,0))),0,0,ROWS(r_NCMATRIX)))<>7, NA(),OFFSET((INDEX(r_NCMATRIX,MATCH(REPLACE($C$21,3,1,"A"),r_NCMATRIX,0))),0,0,ROWS(r_NCMATRIX))), OFFSET(r_NCMATRIX,0,COLUMN(INDEX('NC Matrix'!$2:$2,1,MATCH(REPLACE(C95,3,1,"A"),'NC Matrix'!$2:$2,0)))-1)="M", IF(LEN(OFFSET((INDEX(r_NCMATRIX,MATCH(REPLACE($C$21,3,1,"A"),r_NCMATRIX,0))),0,0,ROWS(r_NCMATRIX)))<>7, NA(),OFFSET((INDEX(r_NCMATRIX,MATCH(REPLACE($C$21,3,1,"A"),r_NCMATRIX,0))),0,0,ROWS(r_NCMATRIX))), TRUE,NA()),4),3),0),""),";",",")}
C96: BSA0365 | D96: #SPLAZALEA | E96: !SPS1563954 | F96: =IF(D96="","",HYPERLINK(_xlfn.CONCAT("https://e-spares-dev.invacare.eu.com/catalog_dev/app?forcerestart=true&basket=false&partLang=en&docuLang=en&locale=en_GB&HOOK_URL=&k_vari_top=",_xlfn.ENCODEURL(D96),"&k_vari=",_xlfn.ENCODEURL(E96)),"ESPC")) -> ESPC | G96: p | H96: TILT SCALE | K96: {=SUBSTITUTE(IFERROR(_xlfn.ARRAYTOTEXT(_xlfn.TOROW(RIGHT( _xlfn.IFS(OFFSET(r_NCMATRIX,0,COLUMN(INDEX('NC Matrix'!$2:$2,1,MATCH(REPLACE(C96,3,1,"A"),'NC Matrix'!$2:$2,0)))-1)="X", IF(LEN(OFFSET((INDEX(r_NCMATRIX,MATCH(REPLACE($C$21,3,1,"A"),r_NCMATRIX,0))),0,0,ROWS(r_NCMATRIX)))<>7, NA(),OFFSET((INDEX(r_NCMATRIX,MATCH(REPLACE($C$21,3,1,"A"),r_NCMATRIX,0))),0,0,ROWS(r_NCMATRIX))), OFFSET(r_NCMATRIX,0,COLUMN(INDEX('NC Matrix'!$2:$2,1,MATCH(REPLACE(C96,3,1,"A"),'NC Matrix'!$2:$2,0)))-1)="M", IF(LEN(OFFSET((INDEX(r_NCMATRIX,MATCH(REPLACE($C$21,3,1,"A"),r_NCMATRIX,0))),0,0,ROWS(r_NCMATRIX)))<>7, NA(),OFFSET((INDEX(r_NCMATRIX,MATCH(REPLACE($C$21,3,1,"A"),r_NCMATRIX,0))),0,0,ROWS(r_NCMATRIX))), TRUE,NA()),4),3),0),""),";",",")}
C97: BACKREST OPTIONS
C98: BSA0370 | D98: #SPLAZALEA | E98: !SPS1446559 | F98: =IF(D98="","",HYPERLINK(_xlfn.CONCAT("https://e-spares-dev.invacare.eu.com/catalog_dev/app?forcerestart=true&basket=false&partLang=en&docuLang=en&locale=en_GB&HOOK_URL=&k_vari_top=",_xlfn.ENCODEURL(D98),"&k_vari=",_xlfn.ENCODEURL(E98)),"ESPC")) -> ESPC | G98: p | H98: HEADREST, SIDEWISE ADJUSTABLE | K98: {=SUBSTITUTE(IFERROR(_xlfn.ARRAYTOTEXT(_xlfn.TOROW(RIGHT( _xlfn.IFS(OFFSET(r_NCMATRIX,0,COLUMN(INDEX('NC Matrix'!$2:$2,1,MATCH(REPLACE(C98,3,1,"A"),'NC Matrix'!$2:$2,0)))-1)="X", IF(LEN(OFFSET((INDEX(r_NCMATRIX,MATCH(REPLACE($C$21,3,1,"A"),r_NCMATRIX,0))),0,0,ROWS(r_NCMATRIX)))<>7, NA(),OFFSET((INDEX(r_NCMATRIX,MATCH(REPLACE($C$21,3,1,"A"),r_NCMATRIX,0))),0,0,ROWS(r_NCMATRIX))), OFFSET(r_NCMATRIX,0,COLUMN(INDEX('NC Matrix'!$2:$2,1,MATCH(REPLACE(C98,3,1,"A"),'NC Matrix'!$2:$2,0)))-1)="M", IF(LEN(OFFSET((INDEX(r_NCMATRIX,MATCH(REPLACE($C$21,3,1,"A"),r_NCMATRIX,0))),0,0,ROWS(r_NCMATRIX)))<>7, NA(),OFFSET((INDEX(r_NCMATRIX,MATCH(REPLACE($C$21,3,1,"A"),r_NCMATRIX,0))),0,0,ROWS(r_NCMATRIX))), TRUE,NA()),4),3),0),""),";",",")} -> 0400
C99: BSA0390 | D99: #SPLAZALEA | E99: !SPS1446560 | F99: =IF(D99="","",HYPERLINK(_xlfn.CONCAT("https://e-spares-dev.invacare.eu.com/catalog_dev/app?forcerestart=true&basket=false&partLang=en&docuLang=en&locale=en_GB&HOOK_URL=&k_vari_top=",_xlfn.ENCODEURL(D99),"&k_vari=",_xlfn.ENCODEURL(E99)),"ESPC")) -> ESPC | G99: p | H99: HEADREST WITH CHEEK SUPPORT, SIDEWISE ADJUSTABLE | K99: {=SUBSTITUTE(IFERROR(_xlfn.ARRAYTOTEXT(_xlfn.TOROW(RIGHT( _xlfn.IFS(OFFSET(r_NCMATRIX,0,COLUMN(INDEX('NC Matrix'!$2:$2,1,MATCH(REPLACE(C99,3,1,"A"),'NC Matrix'!$2:$2,0)))-1)="X", IF(LEN(OFFSET((INDEX(r_NCMATRIX,MATCH(REPLACE($C$21,3,1,"A"),r_NCMATRIX,0))),0,0,ROWS(r_NCMATRIX)))<>7, NA(),OFFSET((INDEX(r_NCMATRIX,MATCH(REPLACE($C$21,3,1,"A"),r_NCMATRIX,0))),0,0,ROWS(r_NCMATRIX))), OFFSET(r_NCMATRIX,0,COLUMN(INDEX('NC Matrix'!$2:$2,1,MATCH(REPLACE(C99,3,1,"A"),'NC Matrix'!$2:$2,0)))-1)="M", IF(LEN(OFFSET((INDEX(r_NCMATRIX,MATCH(REPLACE($C$21,3,1,"A"),r_NCMATRIX,0))),0,0,ROWS(r_NCMATRIX)))<>7, NA(),OFFSET((INDEX(r_NCMATRIX,MATCH(REPLACE($C$21,3,1,"A"),r_NCMATRIX,0))),0,0,ROWS(r_NCMATRIX))), TRUE,NA()),4),3),0),""),";",",")} -> 0380, 0400
C100: BSA0380 | D100: #SPLAZALEA | E100: !SPS1446559 | F100: =IF(D100="","",HYPERLINK(_xlfn.CONCAT("https://e-spares-dev.invacare.eu.com/catalog_dev/app?forcerestart=true&basket=false&partLang=en&docuLang=en&locale=en_GB&HOOK_URL=&k_vari_top=",_xlfn.ENCODEURL(D100),"&k_vari=",_xlfn.ENCODEURL(E100)),"ESPC")) -> ESPC | G100: p | H100: COVER FOR HEADREST | K100: {=SUBSTITUTE(IFERROR(_xlfn.ARRAYTOTEXT(_xlfn.TOROW(RIGHT( _xlfn.IFS(OFFSET(r_NCMATRIX,0,COLUMN(INDEX('NC Matrix'!$2:$2,1,MATCH(REPLACE(C100,3,1,"A"),'NC Matrix'!$2:$2,0)))-1)="X", IF(LEN(OFFSET((INDEX(r_NCMATRIX,MATCH(REPLACE($C$21,3,1,"A"),r_NCMATRIX,0))),0,0,ROWS(r_NCMATRIX)))<>7, NA(),OFFSET((INDEX(r_NCMATRIX,MATCH(REPLACE($C$21,3,1,"A"),r_NCMATRIX,0))),0,0,ROWS(r_NCMATRIX))), OFFSET(r_NCMATRIX,0,COLUMN(INDEX('NC Matrix'!$2:$2,1,MATCH(REPLACE(C100,3,1,"A"),'NC Matrix'!$2:$2,0)))-1)="M", IF(LEN(OFFSET((INDEX(r_NCMATRIX,MATCH(REPLACE($C$21,3,1,"A"),r_NCMATRIX,0))),0,0,ROWS(r_NCMATRIX)))<>7, NA(),OFFSET((INDEX(r_NCMATRIX,MATCH(REPLACE($C$21,3,1,"A"),r_NCMATRIX,0))),0,0,ROWS(r_NCMATRIX))), TRUE,NA()),4),3),0),""),";",",")}
C101: BSA0400 | D101: #SPLAZALEA | E101: !SPS1508848 | F101: =IF(D101="","",HYPERLINK(_xlfn.CONCAT("https://e-spares-dev.invacare.eu.com/catalog_dev/app?forcerestart=true&basket=false&partLang=en&docuLang=en&locale=en_GB&HOOK_URL=&k_vari_top=",_xlfn.ENCODEURL(D101),"&k_vari=",_xlfn.ENCODEURL(E101)),"ESPC")) -> ESPC | G101: u | H101: NECKREST | K101: {=SUBSTITUTE(IFERROR(_xlfn.ARRAYTOTEXT(_xlfn.TOROW(RIGHT( _xlfn.IFS(OFFSET(r_NCMATRIX,0,COLUMN(INDEX('NC Matrix'!$2:$2,1,MATCH(REPLACE(C101,3,1,"A"),'NC Matrix'!$2:$2,0)))-1)="X", IF(LEN(OFFSET((INDEX(r_NCMATRIX,MATCH(REPLACE($C$21,3,1,"A"),r_NCMATRIX,0))),0,0,ROWS(r_NCMATRIX)))<>7, NA(),OFFSET((INDEX(r_NCMATRIX,MATCH(REPLACE($C$21,3,1,"A"),r_NCMATRIX,0))),0,0,ROWS(r_NCMATRIX))), OFFSET(r_NCMATRIX,0,COLUMN(INDEX('NC Matrix'!$2:$2,1,MATCH(REPLACE(C101,3,1,"A"),'NC Matrix'!$2:$2,0)))-1)="M", IF(LEN(OFFSET((INDEX(r_NCMATRIX,MATCH(REPLACE($C$21,3,1,"A"),r_NCMATRIX,0))),0,0,ROWS(r_NCMATRIX)))<>7, NA(),OFFSET((INDEX(r_NCMATRIX,MATCH(REPLACE($C$21,3,1,"A"),r_NCMATRIX,0))),0,0,ROWS(r_NCMATRIX))), TRUE,NA()),4),3),0),""),";",",")}
C102: TRUNK SUPPORT LH
C103: BSA0411 | D103: #SPLAZALEA | E103: !SPS1563735 | F103: =IF(D103="","",HYPERLINK(_xlfn.CONCAT("https://e-spares-dev.invacare.eu.com/catalog_dev/app?forcerestart=true&basket=false&partLang=en&docuLang=en&locale=en_GB&HOOK_URL=&k_vari_top=",_xlfn.ENCODEURL(D103),"&k_vari=",_xlfn.ENCODEURL(E103)),"ESPC")) -> ESPC | G103: p | H103: TRUNK SUPPORT FIXED, LH | K103: {=SUBSTITUTE(IFERROR(_xlfn.ARRAYTOTEXT(_xlfn.TOROW(RIGHT( _xlfn.IFS(OFFSET(r_NCMATRIX,0,COLUMN(INDEX('NC Matrix'!$2:$2,1,MATCH(REPLACE(C103,3,1,"A"),'NC Matrix'!$2:$2,0)))-1)="X", IF(LEN(OFFSET((INDEX(r_NCMATRIX,MATCH(REPLACE($C$21,3,1,"A"),r_NCMATRIX,0))),0,0,ROWS(r_NCMATRIX)))<>7, NA(),OFFSET((INDEX(r_NCMATRIX,MATCH(REPLACE($C$21,3,1,"A"),r_NCMATRIX,0))),0,0,ROWS(r_NCMATRIX))), OFFSET(r_NCMATRIX,0,COLUMN(INDEX('NC Matrix'!$2:$2,1,MATCH(REPLACE(C103,3,1,"A"),'NC Matrix'!$2:$2,0)))-1)="M", IF(LEN(OFFSET((INDEX(r_NCMATRIX,MATCH(REPLACE($C$21,3,1,"A"),r_NCMATRIX,0))),0,0,ROWS(r_NCMATRIX)))<>7, NA(),OFFSET((INDEX(r_NCMATRIX,MATCH(REPLACE($C$21,3,1,"A"),r_NCMATRIX,0))),0,0,ROWS(r_NCMATRIX))), TRUE,NA()),4),3),0),""),";",",")}
C104: BSA0413 | D104: #SPLAZALEA | E104: !SPS1563735 | F104: =IF(D104="","",HYPERLINK(_xlfn.CONCAT("https://e-spares-dev.invacare.eu.com/catalog_dev/app?forcerestart=true&basket=false&partLang=en&docuLang=en&locale=en_GB&HOOK_URL=&k_vari_top=",_xlfn.ENCODEURL(D104),"&k_vari=",_xlfn.ENCODEURL(E104)),"ESPC")) -> ESPC | G104: p | H104: TRUNK SUPPORT MULTI ADJUSTABLE, LH | K104: {=SUBSTITUTE(IFERROR(_xlfn.ARRAYTOTEXT(_xlfn.TOROW(RIGHT( _xlfn.IFS(OFFSET(r_NCMATRIX,0,COLUMN(INDEX('NC Matrix'!$2:$2,1,MATCH(REPLACE(C104,3,1,"A"),'NC Matrix'!$2:$2,0)))-1)="X", IF(LEN(OFFSET((INDEX(r_NCMATRIX,MATCH(REPLACE($C$21,3,1,"A"),r_NCMATRIX,0))),0,0,ROWS(r_NCMATRIX)))<>7, NA(),OFFSET((INDEX(r_NCMATRIX,MATCH(REPLACE($C$21,3,1,"A"),r_NCMATRIX,0))),0,0,ROWS(r_NCMATRIX))), OFFSET(r_NCMATRIX,0,COLUMN(INDEX('NC Matrix'!$2:$2,1,MATCH(REPLACE(C104,3,1,"A"),'NC Matrix'!$2:$2,0)))-1)="M", IF(LEN(OFFSET((INDEX(r_NCMATRIX,MATCH(REPLACE($C$21,3,1,"A"),r_NCMATRIX,0))),0,0,ROWS(r_NCMATRIX)))<>7, NA(),OFFSET((INDEX(r_NCMATRIX,MATCH(REPLACE($C$21,3,1,"A"),r_NCMATRIX,0))),0,0,ROWS(r_NCMATRIX))), TRUE,NA()),4),3),0),""),";",",")}
C105: TRUNK SUPPORT RH
C106: BSA0412 | D106: #SPLAZALEA | E106: !SPS1563735 | F106: =IF(D106="","",HYPERLINK(_xlfn.CONCAT("https://e-spares-dev.invacare.eu.com/catalog_dev/app?forcerestart=true&basket=false&partLang=en&docuLang=en&locale=en_GB&HOOK_URL=&k_vari_top=",_xlfn.ENCODEURL(D106),"&k_vari=",_xlfn.ENCODEURL(E106)),"ESPC")) -> ESPC | G106: p | H106: TRUNK SUPPORT FIXED, RH | K106: {=SUBSTITUTE(IFERROR(_xlfn.ARRAYTOTEXT(_xlfn.TOROW(RIGHT( _xlfn.IFS(OFFSET(r_NCMATRIX,0,COLUMN(INDEX('NC Matrix'!$2:$2,1,MATCH(REPLACE(C106,3,1,"A"),'NC Matrix'!$2:$2,0)))-1)="X", IF(LEN(OFFSET((INDEX(r_NCMATRIX,MATCH(REPLACE($C$21,3,1,"A"),r_NCMATRIX,0))),0,0,ROWS(r_NCMATRIX)))<>7, NA(),OFFSET((INDEX(r_NCMATRIX,MATCH(REPLACE($C$21,3,1,"A"),r_NCMATRIX,0))),0,0,ROWS(r_NCMATRIX))), OFFSET(r_NCMATRIX,0,COLUMN(INDEX('NC Matrix'!$2:$2,1,MATCH(REPLACE(C106,3,1,"A"),'NC Matrix'!$2:$2,0)))-1)="M", IF(LEN(OFFSET((INDEX(r_NCMATRIX,MATCH(REPLACE($C$21,3,1,"A"),r_NCMATRIX,0))),0,0,ROWS(r_NCMATRIX)))<>7, NA(),OFFSET((INDEX(r_NCMATRIX,MATCH(REPLACE($C$21,3,1,"A"),r_NCMATRIX,0))),0,0,ROWS(r_NCMATRIX))), TRUE,NA()),4),3),0),""),";",",")}
C107: BSA0414 | D107: #SPLAZALEA | E107: !SPS1563735 | F107: =IF(D107="","",HYPERLINK(_xlfn.CONCAT("https://e-spares-dev.invacare.eu.com/catalog_dev/app?forcerestart=true&basket=false&partLang=en&docuLang=en&locale=en_GB&HOOK_URL=&k_vari_top=",_xlfn.ENCODEURL(D107),"&k_vari=",_xlfn.ENCODEURL(E107)),"ESPC")) -> ESPC | G107: p | H107: TRUNK SUPPORT MULTI ADJUSTABLE, RH | K107: {=SUBSTITUTE(IFERROR(_xlfn.ARRAYTOTEXT(_xlfn.TOROW(RIGHT( _xlfn.IFS(OFFSET(r_NCMATRIX,0,COLUMN(INDEX('NC Matrix'!$2:$2,1,MATCH(REPLACE(C107,3,1,"A"),'NC Matrix'!$2:$2,0)))-1)="X", IF(LEN(OFFSET((INDEX(r_NCMATRIX,MATCH(REPLACE($C$21,3,1,"A"),r_NCMATRIX,0))),0,0,ROWS(r_NCMATRIX)))<>7, NA(),OFFSET((INDEX(r_NCMATRIX,MATCH(REPLACE($C$21,3,1,"A"),r_NCMATRIX,0))),0,0,ROWS(r_NCMATRIX))), OFFSET(r_NCMATRIX,0,COLUMN(INDEX('NC Matrix'!$2:$2,1,MATCH(REPLACE(C107,3,1,"A"),'NC Matrix'!$2:$2,0)))-1)="M", IF(LEN(OFFSET((INDEX(r_NCMATRIX,MATCH(REPLACE($C$21,3,1,"A"),r_NCMATRIX,0))),0,0,ROWS(r_NCMATRIX)))<>7, NA(),OFFSET((INDEX(r_NCMATRIX,MATCH(REPLACE($C$21,3,1,"A"),r_NCMATRIX,0))),0,0,ROWS(r_NCMATRIX))), TRUE,NA()),4),3),0),""),";",",")}
C108: OTHERS BACKREST OPTIONS
...

Sheet NC Matrix
A1: UPDATE : In Green: New modification - In Blue: Previous Modification. - In Red Suppression | D1: REA AZALEA MAX | E1: REA AZALEA MAX ASSIST (ONLY FOR FRANCE) | G1: SPECIAL | H1: NO SPECIAL | J1: TRANSIT: 16" WHEELS WITH HUB BRAKES | K1: SELF PROPELLED: 24"/ 22" WHEELS WITH USER BRAKES | L1: SELF- AND ASSISTANT PROPELLED: 24" / 22" WHEELS WITH HUB BRAKES | O1: 550 MM | P1: 610 MM | R1: + 50 MM | S1: + 100 MM ( ONLY 16" REAR WHEELS) | T1: WITHOUT SEAT WIDTH EXTENSION | V1: 530-600 MM | X1: 400 MM | Y1: 450 MM | AA1: DEPTH ADJUSTABLE | AC1: MAX SEAT CUSHION | AD1: WITHOUT SEAT CUSHION | AF1: BLACK PLUSH TR35 | AG1: BLACK DARTEX TR26 | AH1: NO SEAT UPHOLSTERY | AK1: BACKREST, TENSION ADJUSTABLE - PRE-ADJUSTED SPACE UPWARDS | AM1: COVER, LATERAL | AN1: CUSHION, LAGUNA (LATERAL SUPPORT) | AO1: WITHOUT BACKREST COVER/ CUSHION | AQ1: BLACK PLUSH TR35 | AR1: BLACK DARTEX TR26 | AS1: BLACK SPACER TR36 | AT1: NO BACKREST UPHOLSTERY | AV1: PUSH HANDLES BRACED | AW1: HIGH PUSH BAR | AZ1: ASSISTANT OPERATED GAS PISTON SEAT AND BACKREST TILT. | BA1: ELECTRICAL OPERATED SEAT AND BACKREST TILT. | BC1: TILT LOCK (LOCKING OF PRE-SET ANGLE) | BD1: NO TILT LOCK | BG1: HANGER ANGLE ADJUSTABLE - ALU 2008, WITH KNEE PAD AND REINFORCED, SEPARATE CALF SUPPORT, PAIR | BH1: WITHOUT LEGRESTS / FOOTRESTS | BJ1: FOOTREST LOWER PART, DEPTH AND ANGLE ADJUSTABLE WITH SHORT TUBE AND FOOTBOARD CONVERTER, PAIR | BK1: FOOTREST LOWER PART, DEPTH AND ANGLE ADJUSTABLE WITH LONG TUBE AND FOOTBOARD CONVERTER, PAIR | BL1: NO FOOTRESTS | BN1: AMPUTATION LEGREST, LH | BO1: NO AMPUTATION LEGREST, LH | BP1: AMPUTATION LEGREST, RH | BQ1: NO AMPUTATION LEGREST, RH | BR1: HEEL STRAP | BS1: NO HEEL STRAP | BV1: REINFORCED, WIDE PAD, LH | BW1: LOW, STANDARD PAD, LH | BX1: WITHOUT ARMREST, LH | BZ1: REINFORCED, WIDE PAD, RH | CA1: LOW, STANDARD PAD, RH | CB1: WITHOUT ARMREST, RH | CE1: SIDE SUPPORT COVER | CF1: NO SIDE SUPPORT COVER | CG1: CUSHION TO SIDE SUPPORT COVER | CH1: NO CUSHION TO SIDE SUPPORT COVER | CJ1: INCONTINENCE COVER | CK1: NO INCONTINENCE COVER | CL1: TILT SCALE | CM1: NO TILT SCALE | CO1: HEADREST, SIDEWISE ADJUSTABLE | CP1: HEADREST WITH CHEEK SUPPORT, SIDEWISE ADJUSTABLE | CQ1: NO HEADREST | CR1: COVER FOR HEADREST | CS1: NO COVER FOR HEADREST | CT1: NECKREST | CU1: NO NECKREST | CV1: TRUNK SUPPORT FIXED, LH | CW1: TRUNK SUPPORT MULTI ADJUSTABLE, LH | CX1: NO TRUNK SUPPORT LH | CY1: TRUNK SUPPORT FIXED, RH | CZ1: TRUNK SUPPORT MULTI ADJUSTABLE, RH | DA1: NO TRUNK SUPPORT RH | DB1: LATERAL POSITIONING PADS (WITH VELCRO BETWEEN COVER AND BACKREST UPHOLSTERY), PAIR | DC1: NO LATERAL POSITIONING PADS | DD1: HANDLES CLINIC KIT FOR HEAD-/NECKREST | DE1: NO HANDLES CLINIC KIT FOR HEAD-/NECKREST | DF1: LUMBAR SUPPORT CUSHION | DG1: NO LUMBAR SUPPORT CUSHION | DH1: WEDGES (ONE PAIR) | DI1: NO WEDGES (ONE PAIR) | DL1: PEARL GREY | DM1: AZURITE | DN1: SAND (ONLY AVAILABLE AS SPECIAL) | DO1: ELECTRIC GREEN (ONLY AVAILABLE AS SPECIAL) | DP1: HAPPY RED (ONLY AVAILABLE AS SPECIAL) | DR1: CHASSIS EXTENDER, CASTORS 50 MM FORWARD. | DS1: NO CHASSIS EXTENDER | DU1: FIXED | DW1: 140X45 SOFT BLACK | DX1: 200X50 BLACK SOLID TYRE | DZ1: 16" / 405 MM | EA1: 22" / 560 MM | EB1: 24" / 600 MM | ED1: REINFORCED | EE1: DRUM BRAKE | EG1: TYRES SOLID BLACK | EI1: ALUMINIUM | EJ1: PLASTIC COATED | EK1: NO HANDRIM | EN1: FROST | EO1: NO SPOKEGUARD | ER1: USER MANOUVERED TYRE BRAKES | ES1: USER MANOUVERED TYRE BRAKES, EXTENDED ARM | ET1: NO BRAKE | EV1: PELVIC BELT | EW1: NO PELVIC BELT | EX1: TRANSPORTATION BRACKETS, FRONT (FOR OCCUPIED AND NON OCCUPIED TRANSPORT) | EY1: NO TRANSPORTATION BRACKETS | FA1: TABLE WITH ELBOW SUPPORTS | FB1: NO TABLE WITH ELBOW SUPPORTS | FC1: CLINIC KIT | FD1: NO CLINIC KIT | FE1: KIT, HAND WHEELS FOR ARM- AND LEGRESTS | FF1: NO KIT, HAND WHEELS FOR ARM- AND LEGRESTS
B2: ↓ BLOCKING → → IS BLOCKED by ↑ | C2: MODEL | D2: BSA0010 | E2: BSA0015 | F2: SPECIAL | G2: BSA8000 | H2: NONE | I2: PROPULSION TYPE | J2: BSA0020 | K2: BSA0030 | L2: BSA0040 | M2: SEAT DIMENSIONS | N2: SEAT WIDTH | O2: BSA0050 | P2: BSA0060 | Q2: SEAT WIDTH EXTENSION (PRE ADJUSTMENT) | R2: BSA0070 | S2: BSA0080 | T2: BSA0085 | U2: SEAT DEPTH | V2: BSA0090 | W2: SEAT HEIGHT | X2: BSA0100 | Y2: BSA0110 | Z2: SEAT TYPE | AA2: BSA0120 | AB2: SEAT CUSHION | AC2: BSA0130 | AD2: BSA0135 | AE2: SEAT UPHOLSTERY | AF2: BSA0145 | AG2: BSA0155 | AH2: NONE | AI2: BACKREST | AJ2: BACKREST TYPE | AK2: BSA0160 | AL2: BACKREST COVER/ CUSHION | AM2: BSA0170 | AN2: BSA0180 | AO2: BSA0190 | AP2: BACKREST UPHOLSTERY | AQ2: BSA0205 | AR2: BSA0215 | AS2: BSA0217 | AT2: NONE | AU2: PUSHHANDLES | AV2: BSA0220 | AW2: BSA0230 | AX2: SEATING | AY2: SEAT TILT AND BACKREST REGULATION TYPE | AZ2: BSA0240 | BA2: BSA0250 | BB2: TILT LOCK | BC2: BSA0605 | BD2: NONE | BE2: LEGRESTS / FOOTRESTS | BF2: LEGRESTS / HANGERS TYPE | BG2: BSA0260 | BH2: BSA0270 | BI2: FOOTRESTS TYPE | BJ2: BSA0280 | BK2: BSA0290 | BL2: NONE | BM2: LEGREST OPTIONS | BN2: BSA0291 | BO2: NONE | BP2: BSA0292 | BQ2: NONE | BR2: BSA0293 | BS2: NONE | BT2: ARMRESTS (Height adjustable, Autolock attachement included) | BU2: ARMRESTS LH TYPE | BV2: BSA0300 | BW2: BSA0305 | BX2: BSA0310 | BY2: ARMRESTS RH TYPE | BZ2: BSA0320 | CA2: BSA0325 | CB2: BSA0330 | CC2: SEATING OPTIONS | CD2: ARMREST OPTIONS | CE2: BSA0340 | CF2: NONE | CG2: BSA0350 | CH2: NONE | CI2: SEAT OPTIONS | CJ2: BSA0360 | CK2: NONE | CL2: BSA0365 | CM2: NONE | CN2: BACKREST OPTIONS | CO2: BSA0370 | CP2: BSA0390 | CQ2: NONE | CR2: BSA0380 | CS2: NONE | CT2: BSA0400 | CU2: NONE | CV2: BSA0411 | CW2: BSA0413 | CX2: NONE | CY2: BSA0412 | CZ2: BSA0414 | DA2: NONE | DB2: BSA0415 | DC2: NONE | DD2: BSA0420 | DE2: NONE | DF2: BSA0430 | DG2: NONE | DH2: BSA0440 | DI2: NONE | DJ2: CHASSIS | DK2: CHASSIS COLOUR | DL2: BSA0441 | DM2: BSA0442 | DN2: BSA0443 | DO2: BSA0444 | DP2: BSA0445 | DQ2: CHASSIS SAFETY | DR2: BSA0450 | DS2: NONE | DT2: CASTOR ATTACHMENT TYPE | DU2: BSA0460 | DV2: FRONT CASTORS | DW2: BSA0480 | DX2: BSA0495 | DY2: REAR WHEELS SIZE | DZ2: BSA0512 | EA2: BSA0514 | EB2: BSA0516 | EC2: REAR WHEELS TYPE | ED2: BSA0522 | EE2: BSA0524 | EF2: TYRE TYPE | EG2: BSA0535 | EH2: HANDRIM TYPE | EI2: BSA0540 | EJ2: BSA0545 | EK2: NONE | EL2: WHEEL OPTIONS | EM2: SPOKEGUARD | EN2: BSA0550 | EO2: NONE | EP2: SAFETY | EQ2: BRAKE TYPE | ER2: BSA0560 | ES2: BSA0561 | ET2: NONE | EU2: SAFETY OPTIONS | EV2: BSA0570 | EW2: NONE | EX2: BSA0595 | EY2: NONE | EZ2: ACCESSORIES | FA2: BSA0600 | FB2: NONE | FC2: BSA0620 | FD2: NONE | FE2: BSA0625 | FF2: NONE
A3: MODEL
A4: BSA0010 | B4: REA AZALEA MAX
A5: BSA0015 | B5: REA AZALEA MAX ASSIST (ONLY FOR FRANCE) | D5: S
A6: SPECIAL
A7: BSA8000 | B7: SPECIAL
A8: NONE | B8: NO SPECIAL | G8: S
A9: PROPULSION TYPE
A10: BSA0020 | B10: TRANSIT: 16" WHEELS WITH HUB BRAKES
A11: BSA0030 | B11: SELF PROPELLED: 24"/ 22" WHEELS WITH USER BRAKES | J11: S
A12: BSA0040 | B12: SELF- AND ASSISTANT PROPELLED: 24" / 22" WHEELS WITH HUB BRAKES | J12: S | K12: S
A13: SEAT DIMENSIONS
A14: SEAT WIDTH
A15: BSA0050 | B15: 550 MM
A16: BSA0060 | B16: 610 MM | O16: S
A17: SEAT WIDTH EXTENSION (PRE ADJUSTMENT)
A18: BSA0070 | B18: + 50 MM
A19: BSA0080 | B19: + 100 MM ( ONLY 16" REAR WHEELS) | K19: x | L19: x | R19: S
A20: BSA0085 | B20: WITHOUT SEAT WIDTH EXTENSION | R20: S | S20: S
A21: SEAT DEPTH
A22: BSA0090 | B22: 530-600 MM
A23: SEAT HEIGHT
A24: BSA0100 | B24: 400 MM | J24: x
A25: BSA0110 | B25: 450 MM | X25: S
A26: SEAT TYPE
A27: BSA0120 | B27: DEPTH ADJUSTABLE
A28: SEAT CUSHION
A29: BSA0130 | B29: MAX SEAT CUSHION
A30: BSA0135 | B30: WITHOUT SEAT CUSHION | AC30: S
A31: SEAT UPHOLSTERY
A32: BSA0145 | B32: BLACK PLUSH TR35 | AD32: x
A33: BSA0155 | B33: BLACK DARTEX TR26 | AD33: x | AF33: S
A34: NONE | B34: NO SEAT UPHOLSTERY | AC34: x | AF34: S | AG34: S
A35: BACKREST
A36: BACKREST TYPE
A37: BSA0160 | B37: BACKREST, TENSION ADJUSTABLE - PRE-ADJUSTED SPACE UPWARDS
A38: BACKREST COVER/ CUSHION
A39: BSA0170 | B39: COVER, LATERAL
A40: BSA0180 | B40: CUSHION, LAGUNA (LATERAL SUPPORT) | AM40: S
A41: BSA0190 | B41: WITHOUT BACKREST COVER/ CUSHION | AM41: S | AN41: S
A42: BACKREST UPHOLSTERY
A43: BSA0205 | B43: BLACK PLUSH TR35 | AO43: x
A44: BSA0215 | B44: BLACK DARTEX TR26 | AO44: x | AQ44: S
A45: BSA0217 | B45: BLACK SPACER TR36 | AN45: x | AO45: x | AQ45: S | AR45: S
A46: NONE | B46: NO BACKREST UPHOLSTERY | AM46: x | AN46: x | AQ46: S | AR46: S | AS46: S
A47: PUSHHANDLES
A48: BSA0220 | B48: PUSH HANDLES BRACED
A49: BSA0230 | B49: HIGH PUSH BAR | AV49: S
A50: SEATING
A51: SEAT TILT AND BACKREST REGULATION TYPE
A52: BSA0240 | B52: ASSISTANT OPERATED GAS PISTON SEAT AND BACKREST TILT.
A53: BSA0250 | B53: ELECTRICAL OPERATED SEAT AND BACKREST TILT. | AZ53: S
A54: TILT LOCK
A55: BSA0605 | B55: TILT LOCK (LOCKING OF PRE-SET ANGLE) | BA55: x
A56: NONE | B56: NO TILT LOCK | AZ56: x | BC56: S
A57: LEGRESTS / FOOTRESTS
A58: LEGRESTS / HANGERS TYPE
A59: BSA0260 | B59: HANGER ANGLE ADJUSTABLE - ALU 2008, WITH KNEE PAD AND REINFORCED, SEPARATE CALF SUPPORT, PAIR
A60: BSA0270 | B60: WITHOUT LEGRESTS / FOOTRESTS | BG60: S
A61: FOOTRESTS TYPE
A62: BSA0280 | B62: FOOTREST LOWER PART, DEPTH AND ANGLE ADJUSTABLE WITH SHORT TUBE AND FOOTBOARD CONVERTER, PAIR | BH62: x
A63: BSA0290 | B63: FOOTREST LOWER PART, DEPTH AND ANGLE ADJUSTABLE WITH LONG TUBE AND FOOTBOARD CONVERTER, PAIR | X63: x | BH63: x | BJ63: S
A64: NONE | B64: NO FOOTRESTS | BG64: x | BJ64: S | BK64: S
A65: LEGREST OPTIONS
A66: BSA0291 | B66: AMPUTATION LEGREST, LH | BH66: x
A67: NONE | B67: NO AMPUTATION LEGREST, LH | BN67: S
A68: BSA0292 | B68: AMPUTATION LEGREST, RH | BH68: x
A69: NONE | B69: NO AMPUTATION LEGREST, RH | BP69: S
A70: BSA0293 | B70: HEEL STRAP | BH70: x
A71: NONE | B71: NO HEEL STRAP | BR71: S
A72: ARMRESTS (Height adjustable, Autolock attachement included)
A73: ARMRESTS LH TYPE
A74: BSA0300 | B74: REINFORCED, WIDE PAD, LH
A75: BSA0305 | B75: LOW, STANDARD PAD, LH | BV75: S
A76: BSA0310 | B76: WITHOUT ARMREST, LH | BV76: S | BW76: S
A77: ARMRESTS RH TYPE
A78: BSA0320 | B78: REINFORCED, WIDE PAD, RH
A79: BSA0325 | B79: LOW, STANDARD PAD, RH | BZ79: S
A80: BSA0330 | B80: WITHOUT ARMREST, RH | BZ80: S | CA80: S
A81: SEATING OPTIONS
A82: ARMREST OPTIONS
A83: BSA0340 | B83: SIDE SUPPORT COVER
A84: NONE | B84: NO SIDE SUPPORT COVER | CE84: S
A85: BSA0350 | B85: CUSHION TO SIDE SUPPORT COVER | CF85: S
A86: NONE | B86: NO CUSHION TO SIDE SUPPORT COVER | CG86: S
A87: SEAT OPTIONS
A88: BSA0360 | B88: INCONTINENCE COVER
A89: NONE | B89: NO INCONTINENCE COVER | CJ89: S
A90: BSA0365 | B90: TILT SCALE
A91: NONE | B91: NO TILT SCALE | CL91: S
A92: BACKREST OPTIONS
A93: BSA0370 | B93: HEADREST, SIDEWISE ADJUSTABLE
A94: BSA0390 | B94: HEADREST WITH CHEEK SUPPORT, SIDEWISE ADJUSTABLE | CO94: S
A95: NONE | B95: NO HEADREST | CO95: S | CP95: S
A96: BSA0380 | B96: COVER FOR HEADREST | CP96: x | CQ96: x
A97: NONE | B97: NO COVER FOR HEADREST | CR97: S
A98: BSA0400 | B98: NECKREST | CO98: x | CP98: x
A99: NONE | B99: NO NECKREST | CT99: S
A100: BSA0411 | B100: TRUNK SUPPORT FIXED, LH
...

Sheet Top Numbers
F1: Rea Azalea Max SW550mm SP | G1: Rea Azalea Max SW610mm SP
E2: TOP NUMBER | F2: AZALEA-SP-21-MAX | G2: AZALEA-SP-24-MAX
C3: Code | E3: Description | F3: AU | G3: AU
C4: MODEL
C5: BSA0010 | D5: p | E5: REA AZALEA MAX | F5: X | G5: X
C6: BSA0015 | D6: p | E6: REA AZALEA MAX ASSIST
C7: SPECIAL
C8: BSA8000 | D8: p | E8: SPECIAL
C9: PROPULSION TYPE
C10: BSA0020 | D10: p | E10: TRANSIT: 16" WHEELS WITH HUB BRAKES
C11: BSA0030 | D11: p | E11: SELF PROPELLED: 24"/ 22" WHEELS WITH USER BRAKES
C12: BSA0040 | D12: p | E12: SELF- AND ASSISTANT PROPELLED: 24" / 22" WHEELS WITH HUB BRAKES | F12: X | G12: X
C13: SEAT DIMENSIONS
C14: SEAT WIDTH
C15: BSA0050 | D15: p | E15: 550 MM | F15: X
C16: BSA0060 | D16: p | E16: 610 MM | G16: X
C17: SEAT WIDTH EXTENSION (PRE ADJUSTMENT)
C18: BSA0070 | D18: p | E18: + 50 MM | F18: X | G18: X
C19: BSA0080 | D19: p | E19: + 100 MM ( ONLY 16" REAR WHEELS)
C20: BSA0085 | D20: p | E20: WITHOUT SEAT WIDTH EXTENSION
C21: SEAT DEPTH
C22: BSA0090 | D22: p | E22: 530-600 MM | F22: X | G22: X
C23: SEAT HEIGHT
C24: BSA0100 | D24: p | E24: 400 MM
C25: BSA0110 | D25: p | E25: 450 MM | F25: X | G25: X
C26: SEAT TYPE
C27: BSA0120 | D27: p | E27: DEPTH ADJUSTABLE | F27: X | G27: X
C28: SEAT CUSHION
C29: BSA0130 | D29: p | E29: MAX SEAT CUSHION | F29: X | G29: X
C30: BSA0135 | D30: p | E30: WITHOUT SEAT CUSHION
C31: SEAT UPHOLSTERY
C32: BSA0145 | D32: p | E32: BLACK PLUSH TR35
C33: BSA0155 | D33: p | E33: BLACK DARTEX TR26 | F33: X | G33: X
C34: BACKREST
C35: BACKREST TYPE
C36: BSA0160 | D36: p | E36: BACKREST, TENSION ADJUSTABLE - PRE-ADJUSTED SPACE UPWARDS | F36: X | G36: X
C37: BACKREST COVER/ CUSHION
C38: BSA0170 | D38: p | E38: COVER, LATERAL
C39: BSA0180 | D39: p | E39: CUSHION, LAGUNA (LATERAL SUPPORT) | F39: X | G39: X
C40: BSA0190 | D40: p | E40: WITHOUT BACKREST COVER/ CUSHION
C41: BACKREST UPHOLSTERY
C42: BSA0205 | D42: p | E42: BLACK PLUSH TR35
C43: BSA0215 | D43: p | E43: BLACK DARTEX TR26 | F43: X | G43: X
C44: BSA0217 | D44: p | E44: BLACK SPACER TR36
C45: PUSHHANDLES
C46: BSA0220 | D46: p | E46: PUSH HANDLES BRACED | F46: X | G46: X
C47: BSA0230 | D47: p | E47: HIGH PUSH BAR
C48: SEATING
C49: SEAT TILT AND BACKREST REGULATION TYPE
C50: BSA0240 | D50: p | E50: ASSISTANT OPERATED GAS PISTON SEAT AND BACKREST TILT. | F50: X | G50: X
C51: BSA0250 | D51: p | E51: ELECTRICAL OPERATED SEAT AND BACKREST TILT.
C52: TILT LOCK
C53: BSA0605 | D53: p | E53: TILT LOCK (LOCKING OF PRE-SET ANGLE) | F53: X | G53: X
C54: LEGRESTS / FOOTRESTS
C55: LEGRESTS / HANGERS TYPE
C56: BSA0260 | D56: p | E56: HANGER ANGLE ADJUSTABLE - ALU 2008, WITH KNEE PAD AND REINFORCED, SEPARATE CALF SUPPORT, PAIR | F56: X | G56: X
C57: BSA0270 | D57: p | E57: WITHOUT LEGRESTS / FOOTRESTS
C58: FOOTRESTS TYPE
C59: BSA0280 | D59: p | E59: FOOTREST LOWER PART, DEPTH AND ANGLE ADJUSTABLE WITH SHORT TUBE AND FOOTBOARD CONVERTER, PAIR
C60: BSA0290 | D60: p | E60: FOOTREST LOWER PART, DEPTH AND ANGLE ADJUSTABLE WITH LONG TUBE AND FOOTBOARD CONVERTER, PAIR | F60: X | G60: X
C61: LEGREST OPTIONS
C62: BSA0291 | D62: p | E62: AMPUTATION LEGREST, LH
C63: BSA0292 | D63: p | E63: AMPUTATION LEGREST, RH
C64: BSA0293 | D64: p | E64: HEEL STRAP
C65: ARMRESTS (Height adjustable, Autolock attachement included)
C66: ARMRESTS LH TYPE
C67: BSA0300 | D67: p | E67: REINFORCED, WIDE PAD, LH | F67: X | G67: X
C68: BSA0305 | D68: p | E68: LOW, STANDARD PAD, LH
C69: BSA0310 | D69: p | E69: WITHOUT ARMREST, LH
C70: ARMRESTS RH TYPE
C71: BSA0320 | D71: p | E71: REINFORCED, WIDE PAD, RH | F71: X | G71: X
C72: BSA0325 | D72: p | E72: LOW, STANDARD PAD, RH
C73: BSA0330 | D73: p | E73: WITHOUT ARMREST, RH
C74: SEATING OPTIONS
C75: ARMREST OPTIONS
C76: BSA0340 | D76: p | E76: SIDE SUPPORT COVER
C77: BSA0350 | D77: p | E77: CUSHION TO SIDE SUPPORT COVER
C78: SEAT OPTIONS
C79: BSA0360 | D79: p | E79: INCONTINENCE COVER
C80: BSA0365 | D80: p | E80: TILT SCALE
C81: BACKREST OPTIONS
C82: BSA0370 | D82: p | E82: HEADREST, SIDEWISE ADJUSTABLE | F82: X | G82: X
C83: BSA0390 | D83: p | E83: HEADREST WITH CHEEK SUPPORT, SIDEWISE ADJUSTABLE
C84: BSA0380 | D84: p | E84: COVER FOR HEADREST
C85: BSA0400 | D85: p | E85: NECKREST
C86: BSA0410 | D86: p | E86: COVER FOR NECKREST
C87: TRUNK SUPPORT LH
C88: BSA0411 | D88: p | E88: TRUNK SUPPORT FIXED, LH | F88: X | G88: X
C89: BSA0413 | D89: p | E89: TRUNK SUPPORT MULTI ADJUSTABLE, LH
C90: TRUNK SUPPORT RH
C91: BSA0412 | D91: p | E91: TRUNK SUPPORT FIXED, RH | F91: X | G91: X
C92: BSA0414 | D92: p | E92: TRUNK SUPPORT MULTI ADJUSTABLE, RH
C93: OTHERS BACKREST OPTIONS
C94: BSA0415 | D94: p | E94: LATERAL POSITIONING PADS (WITH VELCRO BETWEEN COVER AND BACKREST UPHOLSTERY), PAIR
C95: BSA0420 | D95: p | E95: HANDLES CLINIC KIT FOR HEAD-/NECKREST
C96: BSA0430 | D96: p | E96: LUMBAR SUPPORT CUSHION
C97: BSA0440 | D97: p | E97: WEDGES (ONE PAIR)
C98: CHASSIS
C99: CHASSIS COLOUR
C100: BSA0441 | D100: p | E100: PEARL GREY | F100: X | G100: X
...

Sheet Models Azalea Max
A1: Codification of Local Prescription Form
A2: Azalea Max | B2: BSA
A3: Azalea Max Assist | B3: BSB

Sheet Option Suppressed
A2: Date arrêt | B2: Option Code | C2: Espc1 | D2: Espc2 | E2: Lien Espc | F2: Colonne12 | G2: Description | H2: Comments 1 | I2: Comments 2 | J2: NC with
A3: 43831 | B3: BSA0470 | F3: p | G3: 140X40 GREY SOFT
A4: 43831 | B4: BSA0490 | F4: p | G4: 200X45 MEDIUM HARD
A5: 43831 | B5: BSA0500 | F5: p | G5: QR Axle
A6: 43831 | B6: BSA0510 | F6: p | G6: 22" | J6: (NC : 0535, 0545 )
A7: 43831 | B7: BSA0520 | F7: p | G7: 24" STANDARD REAR WHEELS | J7: (NC : 0535 )
A8: 43831 | B8: BSA0530 | F8: p | G8: TYRES SOLID GREY
A9: 44743 | B9: BSA0410 | C9: %23SPLAZALEA | D9: !SPS1508848 | E9: ESPC | F9: p | G9: COVER FOR NECKREST
A10: 44743 | B10: BSA0610 | C10: %23SPLAZALEA | D10: %3CSPCAZALEA98 | E10: ESPC | F10: p | G10: CANE HOLDER
A11: 45567 | B11: BSA0590 | C11: #SPLAZALEA | D11: !SPS1648801 | E11: ESPC | F11: p | G11: REFLECTORS KIT (WHEELS AND CHASSIS)
